BEGIN:VCALENDAR
VERSION:2.0
PRODID:-//Lincoln Pelham Public Library - ECPv6.15.20//NONSGML v1.0//EN
CALSCALE:GREGORIAN
METHOD:PUBLISH
X-ORIGINAL-URL:https://lppl.ca
X-WR-CALDESC:Events for Lincoln Pelham Public Library
REFRESH-INTERVAL;VALUE=DURATION:PT1H
X-Robots-Tag:noindex
X-PUBLISHED-TTL:PT1H
BEGIN:VTIMEZONE
TZID:America/Toronto
BEGIN:DAYLIGHT
TZOFFSETFROM:-0500
TZOFFSETTO:-0400
TZNAME:EDT
DTSTART:20240310T070000
END:DAYLIGHT
BEGIN:STANDARD
TZOFFSETFROM:-0400
TZOFFSETTO:-0500
TZNAME:EST
DTSTART:20241103T060000
END:STANDARD
BEGIN:DAYLIGHT
TZOFFSETFROM:-0500
TZOFFSETTO:-0400
TZNAME:EDT
DTSTART:20250309T070000
END:DAYLIGHT
BEGIN:STANDARD
TZOFFSETFROM:-0400
TZOFFSETTO:-0500
TZNAME:EST
DTSTART:20251102T060000
END:STANDARD
BEGIN:DAYLIGHT
TZOFFSETFROM:-0500
TZOFFSETTO:-0400
TZNAME:EDT
DTSTART:20260308T070000
END:DAYLIGHT
BEGIN:STANDARD
TZOFFSETFROM:-0400
TZOFFSETTO:-0500
TZNAME:EST
DTSTART:20261101T060000
END:STANDARD
END:VTIMEZONE
BEGIN:VEVENT
DTSTART;TZID=America/Toronto:20250922T100000
DTEND;TZID=America/Toronto:20250922T120000
DTSTAMP:20260423T203639
CREATED:20250829T153401Z
LAST-MODIFIED:20250829T154318Z
UID:10005545-1758535200-1758542400@lppl.ca
SUMMARY:Knit and Chat (DROP IN)
DESCRIPTION:Bring your projects and enjoy conversation by the fireplace. \nPlease note:  \n\nProgram fees are non-refundable unless a program is cancelled or rescheduled by Lincoln Pelham Public Library.\nIf fees ever present a barrier to participation\, or should you require assistance or accommodations related to you or your child’s ability to attend a program\, please contact Susan by phone: 905-562-5711 or email: programmers@lppl.ca.\nChildren 10 years of age or under attending Library programs or events must have a caregiver present in the Library. Where Library programs or events are held outside of the Library building\, the caregiver must remain within visual range of children.\nYour attendance at Lincoln Pelham Public Library programs may be digitally recorded through photographs or video recordings. These images/videos may be posted on our website\, on social media outlets\, or local publications. If you do not wish your image to be published\, please notify Library staff before or immediately after the program. No individual identification will be used unless the Library has obtained express consent.\nLPPL welcomes donations so we can continue to offer free and affordable programs. You can donate at any LPPL branch or online here.
URL:https://lppl.ca/event/knit-and-chat-drop-in-3/2025-09-22/
LOCATION:Fleming Branch\, Beamsville\, 5020 Serena Drive\, Beamsville\, ON\, L3J 0T2\, Canada
CATEGORIES:FLEMING BRANCH
ORGANIZER;CN="Lincoln Pelham Public Library":MAILTO:programmers@lppl.ca
END:VEVENT
BEGIN:VEVENT
DTSTART;TZID=America/Toronto:20250922T183000
DTEND;TZID=America/Toronto:20250922T193000
DTSTAMP:20260423T203639
CREATED:20250828T202920Z
LAST-MODIFIED:20250922T175609Z
UID:10005383-1758565800-1758569400@lppl.ca
SUMMARY:Introduction to Chinese Calligraphy - POSTPONED
DESCRIPTION:Watch a demonstration of traditional Chinese calligraphy and try it yourself. \nPresented in partnership with Chinese Cultural Federation of Niagara. \n\nPlease note: \n\n\nProgram fees are non-refundable unless a program is cancelled or rescheduled by Lincoln Pelham Public Library.\nIf fees ever present a barrier to participation\, or should you require assistance or accommodations related to you or your child’s ability to attend a program\, please contact Susan by phone: 905-562-5711 or email: programmers@lppl.ca.\nChildren 10 years of age or under attending Library programs or events must have a caregiver present in the Library. Where Library programs or events are held outside of the Library building\, the caregiver must remain within visual range of children.\nYour attendance at Lincoln Pelham Public Library programs may be digitally recorded through photographs or video recordings. These images/videos may be posted on our website\, on social media outlets\, or local publications. If you do not wish your image to be published\, please notify Library staff before or immediately after the program. No individual identification will be used unless the Library has obtained express consent.\nLPPL welcomes donations so we can continue to offer free and affordable programs. You can donate at any LPPL branch or online here.
URL:https://lppl.ca/event/introduction-to-chinese-calligraphy/
LOCATION:Fleming Branch\, Beamsville\, 5020 Serena Drive\, Beamsville\, ON\, L3J 0T2\, Canada
CATEGORIES:FLEMING BRANCH
ORGANIZER;CN="Lincoln Pelham Public Library":MAILTO:programmers@lppl.ca
END:VEVENT
BEGIN:VEVENT
DTSTART;TZID=America/Toronto:20250923T100000
DTEND;TZID=America/Toronto:20250923T120000
DTSTAMP:20260423T203639
CREATED:20250829T153749Z
LAST-MODIFIED:20251017T172443Z
UID:10005613-1758621600-1758628800@lppl.ca
SUMMARY:Tuesday Morning Crafters (DROP IN)
DESCRIPTION:Bring your projects and enjoy conversation and community. \nFree; drop in \nPlease note:  \n\nProgram fees are non-refundable unless a program is cancelled or rescheduled by Lincoln Pelham Public Library.\nIf fees ever present a barrier to participation\, or should you require assistance or accommodations related to you or your child’s ability to attend a program\, please contact Susan by phone: 905-562-5711 or email: programmers@lppl.ca.\nChildren 10 years of age or under attending Library programs or events must have a caregiver present in the Library. Where Library programs or events are held outside of the Library building\, the caregiver must remain within visual range of children.\nYour attendance at Lincoln Pelham Public Library programs may be digitally recorded through photographs or video recordings. These images/videos may be posted on our website\, on social media outlets\, or local publications. If you do not wish your image to be published\, please notify Library staff before or immediately after the program. No individual identification will be used unless the Library has obtained express consent.\nLPPL welcomes donations so we can continue to offer free and affordable programs. You can donate at any LPPL branch or online here.
URL:https://lppl.ca/event/tuesday-morning-crafters-drop-in-2/2025-09-23/
LOCATION:Rittenhouse Branch\, Vineland\, 4080 John Charles Blvd\, Vineland\, ON\, L0R 2C0\, Canada
CATEGORIES:RITTENHOUSE BRANCH
ORGANIZER;CN="Lincoln Pelham Public Library":MAILTO:programmers@lppl.ca
END:VEVENT
BEGIN:VEVENT
DTSTART;TZID=America/Toronto:20250924T130000
DTEND;TZID=America/Toronto:20250924T150000
DTSTAMP:20260423T203639
CREATED:20250829T162740Z
LAST-MODIFIED:20250829T162740Z
UID:10005753-1758718800-1758726000@lppl.ca
SUMMARY:Introduction to Computers
DESCRIPTION:This six-week class for beginners introduces the basic concepts of using a computer with Windows 11\, including mouse movements\, online safety\, and email basics. \nIn partnership with Niagara West Adult Learning Centre and the Town of Lincoln. \nLocation: Lincoln Centre\, 4361 Central Ave\, Beamsville \nRegister by calling 905- 563-1515. \nPlease note:  \n\nProgram fees are non-refundable unless a program is cancelled or rescheduled by Lincoln Pelham Public Library.\nIf fees ever present a barrier to participation\, or should you require assistance or accommodations related to you or your child’s ability to attend a program\, please contact Susan by phone: 905-562-5711 or email: programmers@lppl.ca.\nChildren 10 years of age or under attending Library programs or events must have a caregiver present in the Library. Where Library programs or events are held outside of the Library building\, the caregiver must remain within visual range of children.\nYour attendance at Lincoln Pelham Public Library programs may be digitally recorded through photographs or video recordings. These images/videos may be posted on our website\, on social media outlets\, or local publications. If you do not wish your image to be published\, please notify Library staff before or immediately after the program. No individual identification will be used unless the Library has obtained express consent.\nLPPL welcomes donations so we can continue to offer free and affordable programs. You can donate at any LPPL branch or online here.
URL:https://lppl.ca/event/introduction-to-computers-7/2025-09-24/
LOCATION:ON
CATEGORIES:COMMUNITY
ORGANIZER;CN="Lincoln Pelham Public Library":MAILTO:programmers@lppl.ca
END:VEVENT
BEGIN:VEVENT
DTSTART;TZID=America/Toronto:20250925T130000
DTEND;TZID=America/Toronto:20250925T140000
DTSTAMP:20260423T203639
CREATED:20250829T162332Z
LAST-MODIFIED:20250829T162332Z
UID:10005746-1758805200-1758808800@lppl.ca
SUMMARY:Connect & Care Memory Cafe (DROP IN)
DESCRIPTION:Find peer support and participate in activities for care partners and loved ones living with dementia. \n\nPlease note: \n\n\nProgram fees are non-refundable unless a program is cancelled or rescheduled by Lincoln Pelham Public Library.\nIf fees ever present a barrier to participation\, or should you require assistance or accommodations related to you or your child’s ability to attend a program\, please contact Susan by phone: 905-562-5711 or email: programmers@lppl.ca.\nChildren 10 years of age or under attending Library programs or events must have a caregiver present in the Library. Where Library programs or events are held outside of the Library building\, the caregiver must remain within visual range of children.\nYour attendance at Lincoln Pelham Public Library programs may be digitally recorded through photographs or video recordings. These images/videos may be posted on our website\, on social media outlets\, or local publications. If you do not wish your image to be published\, please notify Library staff before or immediately after the program. No individual identification will be used unless the Library has obtained express consent.\nLPPL welcomes donations so we can continue to offer free and affordable programs. You can donate at any LPPL branch or online here.
URL:https://lppl.ca/event/connect-care-memory-cafe-drop-in-5/
LOCATION:Fonthill Branch\, Fonthill\, 43 Pelham Town Square\, Fonthill\, Ontario\, L0S 1E0\, Canada
CATEGORIES:FONTHILL BRANCH
ORGANIZER;CN="Lincoln Pelham Public Library":MAILTO:programmers@lppl.ca
END:VEVENT
BEGIN:VEVENT
DTSTART;TZID=America/Toronto:20250926T133000
DTEND;TZID=America/Toronto:20250926T153000
DTSTAMP:20260423T203639
CREATED:20250829T154640Z
LAST-MODIFIED:20251127T204742Z
UID:10005677-1758893400-1758900600@lppl.ca
SUMMARY:TGIF Crafters (DROP IN)
DESCRIPTION:Bring your knitting\, crocheting\, or any portable craft for an afternoon of conversation and fun. \nPlease note:  \n\nProgram fees are non-refundable unless a program is cancelled or rescheduled by Lincoln Pelham Public Library.\nIf fees ever present a barrier to participation\, or should you require assistance or accommodations related to you or your child’s ability to attend a program\, please contact Susan by phone: 905-562-5711 or email: programmers@lppl.ca.\nChildren 10 years of age or under attending Library programs or events must have a caregiver present in the Library. Where Library programs or events are held outside of the Library building\, the caregiver must remain within visual range of children.\nYour attendance at Lincoln Pelham Public Library programs may be digitally recorded through photographs or video recordings. These images/videos may be posted on our website\, on social media outlets\, or local publications. If you do not wish your image to be published\, please notify Library staff before or immediately after the program. No individual identification will be used unless the Library has obtained express consent.\nLPPL welcomes donations so we can continue to offer free and affordable programs. You can donate at any LPPL branch or online here.
URL:https://lppl.ca/event/tgif-crafters-drop-in/2025-09-26/
LOCATION:Fonthill Branch\, Fonthill\, 43 Pelham Town Square\, Fonthill\, Ontario\, L0S 1E0\, Canada
CATEGORIES:FONTHILL BRANCH
ORGANIZER;CN="Lincoln Pelham Public Library":MAILTO:programmers@lppl.ca
END:VEVENT
END:VCALENDAR