BEGIN:VCALENDAR
VERSION:2.0
PRODID:-//Lincoln Pelham Public Library - ECPv6.15.20//NONSGML v1.0//EN
CALSCALE:GREGORIAN
METHOD:PUBLISH
X-ORIGINAL-URL:https://lppl.ca
X-WR-CALDESC:Events for Lincoln Pelham Public Library
REFRESH-INTERVAL;VALUE=DURATION:PT1H
X-Robots-Tag:noindex
X-PUBLISHED-TTL:PT1H
BEGIN:VTIMEZONE
TZID:America/Toronto
BEGIN:DAYLIGHT
TZOFFSETFROM:-0500
TZOFFSETTO:-0400
TZNAME:EDT
DTSTART:20240310T070000
END:DAYLIGHT
BEGIN:STANDARD
TZOFFSETFROM:-0400
TZOFFSETTO:-0500
TZNAME:EST
DTSTART:20241103T060000
END:STANDARD
BEGIN:DAYLIGHT
TZOFFSETFROM:-0500
TZOFFSETTO:-0400
TZNAME:EDT
DTSTART:20250309T070000
END:DAYLIGHT
BEGIN:STANDARD
TZOFFSETFROM:-0400
TZOFFSETTO:-0500
TZNAME:EST
DTSTART:20251102T060000
END:STANDARD
BEGIN:DAYLIGHT
TZOFFSETFROM:-0500
TZOFFSETTO:-0400
TZNAME:EDT
DTSTART:20260308T070000
END:DAYLIGHT
BEGIN:STANDARD
TZOFFSETFROM:-0400
TZOFFSETTO:-0500
TZNAME:EST
DTSTART:20261101T060000
END:STANDARD
END:VTIMEZONE
BEGIN:VEVENT
DTSTART;TZID=America/Toronto:20251027T100000
DTEND;TZID=America/Toronto:20251027T120000
DTSTAMP:20260423T172343
CREATED:20250829T153401Z
LAST-MODIFIED:20250829T154318Z
UID:10005549-1761559200-1761566400@lppl.ca
SUMMARY:Knit and Chat (DROP IN)
DESCRIPTION:Bring your projects and enjoy conversation by the fireplace. \nPlease note:  \n\nProgram fees are non-refundable unless a program is cancelled or rescheduled by Lincoln Pelham Public Library.\nIf fees ever present a barrier to participation\, or should you require assistance or accommodations related to you or your child’s ability to attend a program\, please contact Susan by phone: 905-562-5711 or email: programmers@lppl.ca.\nChildren 10 years of age or under attending Library programs or events must have a caregiver present in the Library. Where Library programs or events are held outside of the Library building\, the caregiver must remain within visual range of children.\nYour attendance at Lincoln Pelham Public Library programs may be digitally recorded through photographs or video recordings. These images/videos may be posted on our website\, on social media outlets\, or local publications. If you do not wish your image to be published\, please notify Library staff before or immediately after the program. No individual identification will be used unless the Library has obtained express consent.\nLPPL welcomes donations so we can continue to offer free and affordable programs. You can donate at any LPPL branch or online here.
URL:https://lppl.ca/event/knit-and-chat-drop-in-3/2025-10-27/
LOCATION:Fleming Branch\, Beamsville\, 5020 Serena Drive\, Beamsville\, ON\, L3J 0T2\, Canada
CATEGORIES:FLEMING BRANCH
ORGANIZER;CN="Lincoln Pelham Public Library":MAILTO:programmers@lppl.ca
END:VEVENT
BEGIN:VEVENT
DTSTART;TZID=America/Toronto:20251027T140000
DTEND;TZID=America/Toronto:20251027T150000
DTSTAMP:20260423T172343
CREATED:20250828T195904Z
LAST-MODIFIED:20250917T173803Z
UID:10005354-1761573600-1761577200@lppl.ca
SUMMARY:Last Monday Afternoon Book Club
DESCRIPTION:Read and talk about books! A limited number of copies are available to borrow. eBooks and audiobooks may be available on Libby. \nIf you have questions or would like to join later in the year\, please contact Kolleen: kkanar@lppl.ca. \nRegistration is for October – May (no meeting in December). \nPlease note:  \n\nProgram fees are non-refundable unless a program is cancelled or rescheduled by Lincoln Pelham Public Library.\nIf fees ever present a barrier to participation\, or should you require assistance or accommodations related to you or your child’s ability to attend a program\, please contact Susan by phone: 905-562-5711 or email: programmers@lppl.ca.\nChildren 10 years of age or under attending Library programs or events must have a caregiver present in the Library. Where Library programs or events are held outside of the Library building\, the caregiver must remain within visual range of children.\nYour attendance at Lincoln Pelham Public Library programs may be digitally recorded through photographs or video recordings. These images/videos may be posted on our website\, on social media outlets\, or local publications. If you do not wish your image to be published\, please notify Library staff before or immediately after the program. No individual identification will be used unless the Library has obtained express consent.\nLPPL welcomes donations so we can continue to offer free and affordable programs. You can donate at any LPPL branch or online here.
URL:https://lppl.ca/event/last-monday-afternoon-book-club-2/
LOCATION:Fonthill Branch\, Fonthill\, 43 Pelham Town Square\, Fonthill\, Ontario\, L0S 1E0\, Canada
CATEGORIES:FONTHILL BRANCH
ORGANIZER;CN="Lincoln Pelham Public Library":MAILTO:programmers@lppl.ca
END:VEVENT
BEGIN:VEVENT
DTSTART;TZID=America/Toronto:20251028T100000
DTEND;TZID=America/Toronto:20251028T120000
DTSTAMP:20260423T172343
CREATED:20250829T153749Z
LAST-MODIFIED:20251017T172443Z
UID:10005618-1761645600-1761652800@lppl.ca
SUMMARY:Tuesday Morning Crafters (DROP IN)
DESCRIPTION:Bring your projects and enjoy conversation and community. \nFree; drop in \nPlease note:  \n\nProgram fees are non-refundable unless a program is cancelled or rescheduled by Lincoln Pelham Public Library.\nIf fees ever present a barrier to participation\, or should you require assistance or accommodations related to you or your child’s ability to attend a program\, please contact Susan by phone: 905-562-5711 or email: programmers@lppl.ca.\nChildren 10 years of age or under attending Library programs or events must have a caregiver present in the Library. Where Library programs or events are held outside of the Library building\, the caregiver must remain within visual range of children.\nYour attendance at Lincoln Pelham Public Library programs may be digitally recorded through photographs or video recordings. These images/videos may be posted on our website\, on social media outlets\, or local publications. If you do not wish your image to be published\, please notify Library staff before or immediately after the program. No individual identification will be used unless the Library has obtained express consent.\nLPPL welcomes donations so we can continue to offer free and affordable programs. You can donate at any LPPL branch or online here.
URL:https://lppl.ca/event/tuesday-morning-crafters-drop-in-2/2025-10-28/
LOCATION:Rittenhouse Branch\, Vineland\, 4080 John Charles Blvd\, Vineland\, ON\, L0R 2C0\, Canada
CATEGORIES:RITTENHOUSE BRANCH
ORGANIZER;CN="Lincoln Pelham Public Library":MAILTO:programmers@lppl.ca
END:VEVENT
BEGIN:VEVENT
DTSTART;TZID=America/Toronto:20251028T140000
DTEND;TZID=America/Toronto:20251028T150000
DTSTAMP:20260423T172343
CREATED:20250922T175751Z
LAST-MODIFIED:20250922T175751Z
UID:10005765-1761660000-1761663600@lppl.ca
SUMMARY:Navigating Online Privacy and Security
DESCRIPTION:Join us for Media Literacy Week for a presentation on tips and tricks to safely navigate online privacy and security. \n\nProgram fees are non-refundable unless a program is cancelled or rescheduled by Lincoln Pelham Public Library.\nIf fees ever present a barrier to participation\, or should you require assistance or accommodations related to you or your child’s ability to attend a program\, please contact Susan by phone: 905-562-5711 or email: programmers@lppl.ca.\nChildren 10 years of age or under attending Library programs or events must have a caregiver present in the Library. Where Library programs or events are held outside of the Library building\, the caregiver must remain within visual range of children.\nYour attendance at Lincoln Pelham Public Library programs may be digitally recorded through photographs or video recordings. These images/videos may be posted on our website\, on social media outlets\, or local publications. If you do not wish your image to be published\, please notify Library staff before or immediately after the program. No individual identification will be used unless the Library has obtained express consent.\nLPPL welcomes donations so we can continue to offer free and affordable programs. You can donate at any LPPL branch or online here.
URL:https://lppl.ca/event/navigating-online-privacy-and-security/
LOCATION:Fleming Branch\, Beamsville\, 5020 Serena Drive\, Beamsville\, ON\, L3J 0T2\, Canada
CATEGORIES:FLEMING BRANCH
ORGANIZER;CN="Lincoln Pelham Public Library":MAILTO:programmers@lppl.ca
END:VEVENT
BEGIN:VEVENT
DTSTART;TZID=America/Toronto:20251031T133000
DTEND;TZID=America/Toronto:20251031T153000
DTSTAMP:20260423T172343
CREATED:20250829T154640Z
LAST-MODIFIED:20251127T204742Z
UID:10005682-1761917400-1761924600@lppl.ca
SUMMARY:TGIF Crafters (DROP IN)
DESCRIPTION:Bring your knitting\, crocheting\, or any portable craft for an afternoon of conversation and fun. \nPlease note:  \n\nProgram fees are non-refundable unless a program is cancelled or rescheduled by Lincoln Pelham Public Library.\nIf fees ever present a barrier to participation\, or should you require assistance or accommodations related to you or your child’s ability to attend a program\, please contact Susan by phone: 905-562-5711 or email: programmers@lppl.ca.\nChildren 10 years of age or under attending Library programs or events must have a caregiver present in the Library. Where Library programs or events are held outside of the Library building\, the caregiver must remain within visual range of children.\nYour attendance at Lincoln Pelham Public Library programs may be digitally recorded through photographs or video recordings. These images/videos may be posted on our website\, on social media outlets\, or local publications. If you do not wish your image to be published\, please notify Library staff before or immediately after the program. No individual identification will be used unless the Library has obtained express consent.\nLPPL welcomes donations so we can continue to offer free and affordable programs. You can donate at any LPPL branch or online here.
URL:https://lppl.ca/event/tgif-crafters-drop-in/2025-10-31/
LOCATION:Fonthill Branch\, Fonthill\, 43 Pelham Town Square\, Fonthill\, Ontario\, L0S 1E0\, Canada
CATEGORIES:FONTHILL BRANCH
ORGANIZER;CN="Lincoln Pelham Public Library":MAILTO:programmers@lppl.ca
END:VEVENT
END:VCALENDAR