BEGIN:VCALENDAR
VERSION:2.0
PRODID:-//Lincoln Pelham Public Library - ECPv6.15.20//NONSGML v1.0//EN
CALSCALE:GREGORIAN
METHOD:PUBLISH
X-ORIGINAL-URL:https://lppl.ca
X-WR-CALDESC:Events for Lincoln Pelham Public Library
REFRESH-INTERVAL;VALUE=DURATION:PT1H
X-Robots-Tag:noindex
X-PUBLISHED-TTL:PT1H
BEGIN:VTIMEZONE
TZID:America/Toronto
BEGIN:DAYLIGHT
TZOFFSETFROM:-0500
TZOFFSETTO:-0400
TZNAME:EDT
DTSTART:20240310T070000
END:DAYLIGHT
BEGIN:STANDARD
TZOFFSETFROM:-0400
TZOFFSETTO:-0500
TZNAME:EST
DTSTART:20241103T060000
END:STANDARD
BEGIN:DAYLIGHT
TZOFFSETFROM:-0500
TZOFFSETTO:-0400
TZNAME:EDT
DTSTART:20250309T070000
END:DAYLIGHT
BEGIN:STANDARD
TZOFFSETFROM:-0400
TZOFFSETTO:-0500
TZNAME:EST
DTSTART:20251102T060000
END:STANDARD
BEGIN:DAYLIGHT
TZOFFSETFROM:-0500
TZOFFSETTO:-0400
TZNAME:EDT
DTSTART:20260308T070000
END:DAYLIGHT
BEGIN:STANDARD
TZOFFSETFROM:-0400
TZOFFSETTO:-0500
TZNAME:EST
DTSTART:20261101T060000
END:STANDARD
END:VTIMEZONE
BEGIN:VEVENT
DTSTART;TZID=America/Toronto:20251201T100000
DTEND;TZID=America/Toronto:20251201T120000
DTSTAMP:20260423T183446
CREATED:20250829T153401Z
LAST-MODIFIED:20250829T154318Z
UID:10005554-1764583200-1764590400@lppl.ca
SUMMARY:Knit and Chat (DROP IN)
DESCRIPTION:Bring your projects and enjoy conversation by the fireplace. \nPlease note:  \n\nProgram fees are non-refundable unless a program is cancelled or rescheduled by Lincoln Pelham Public Library.\nIf fees ever present a barrier to participation\, or should you require assistance or accommodations related to you or your child’s ability to attend a program\, please contact Susan by phone: 905-562-5711 or email: programmers@lppl.ca.\nChildren 10 years of age or under attending Library programs or events must have a caregiver present in the Library. Where Library programs or events are held outside of the Library building\, the caregiver must remain within visual range of children.\nYour attendance at Lincoln Pelham Public Library programs may be digitally recorded through photographs or video recordings. These images/videos may be posted on our website\, on social media outlets\, or local publications. If you do not wish your image to be published\, please notify Library staff before or immediately after the program. No individual identification will be used unless the Library has obtained express consent.\nLPPL welcomes donations so we can continue to offer free and affordable programs. You can donate at any LPPL branch or online here.
URL:https://lppl.ca/event/knit-and-chat-drop-in-3/2025-12-01/
LOCATION:Fleming Branch\, Beamsville\, 5020 Serena Drive\, Beamsville\, ON\, L3J 0T2\, Canada
CATEGORIES:FLEMING BRANCH
ORGANIZER;CN="Lincoln Pelham Public Library":MAILTO:programmers@lppl.ca
END:VEVENT
BEGIN:VEVENT
DTSTART;TZID=America/Toronto:20251201T130000
DTEND;TZID=America/Toronto:20251201T140000
DTSTAMP:20260423T183446
CREATED:20251017T174214Z
LAST-MODIFIED:20251017T174214Z
UID:10005865-1764594000-1764597600@lppl.ca
SUMMARY:Adult Story Time (DROP IN)
DESCRIPTION:Celebrate the upcoming holidays with stories and activities! \nFor teens and adults of all ages and abilities. \nFree; drop in \nPlease note:  \n\nProgram fees are non-refundable unless a program is cancelled or rescheduled by Lincoln Pelham Public Library.\nIf fees ever present a barrier to participation\, or should you require assistance or accommodations related to you or your child’s ability to attend a program\, please contact Susan by phone: 905-562-5711 or email: programmers@lppl.ca.\nChildren 10 years of age or under attending Library programs or events must have a caregiver present in the Library. Where Library programs or events are held outside of the Library building\, the caregiver must remain within visual range of children.\nYour attendance at Lincoln Pelham Public Library programs may be digitally recorded through photographs or video recordings. These images/videos may be posted on our website\, on social media outlets\, or local publications. If you do not wish your image to be published\, please notify Library staff before or immediately after the program. No individual identification will be used unless the Library has obtained express consent.\nLPPL welcomes donations so we can continue to offer free and affordable programs. You can donate at any LPPL branch or online here.
URL:https://lppl.ca/event/adult-story-time-drop-in-3/2025-12-01/
LOCATION:Fleming Branch\, Beamsville\, 5020 Serena Drive\, Beamsville\, ON\, L3J 0T2\, Canada
CATEGORIES:FLEMING BRANCH
ORGANIZER;CN="Lincoln Pelham Public Library":MAILTO:programmers@lppl.ca
END:VEVENT
BEGIN:VEVENT
DTSTART;TZID=America/Toronto:20251202T100000
DTEND;TZID=America/Toronto:20251202T120000
DTSTAMP:20260423T183446
CREATED:20250829T153749Z
LAST-MODIFIED:20251017T172443Z
UID:10005622-1764669600-1764676800@lppl.ca
SUMMARY:Tuesday Morning Crafters (DROP IN)
DESCRIPTION:Bring your projects and enjoy conversation and community. \nFree; drop in \nPlease note:  \n\nProgram fees are non-refundable unless a program is cancelled or rescheduled by Lincoln Pelham Public Library.\nIf fees ever present a barrier to participation\, or should you require assistance or accommodations related to you or your child’s ability to attend a program\, please contact Susan by phone: 905-562-5711 or email: programmers@lppl.ca.\nChildren 10 years of age or under attending Library programs or events must have a caregiver present in the Library. Where Library programs or events are held outside of the Library building\, the caregiver must remain within visual range of children.\nYour attendance at Lincoln Pelham Public Library programs may be digitally recorded through photographs or video recordings. These images/videos may be posted on our website\, on social media outlets\, or local publications. If you do not wish your image to be published\, please notify Library staff before or immediately after the program. No individual identification will be used unless the Library has obtained express consent.\nLPPL welcomes donations so we can continue to offer free and affordable programs. You can donate at any LPPL branch or online here.
URL:https://lppl.ca/event/tuesday-morning-crafters-drop-in-2/2025-12-02/
LOCATION:Rittenhouse Branch\, Vineland\, 4080 John Charles Blvd\, Vineland\, ON\, L0R 2C0\, Canada
CATEGORIES:RITTENHOUSE BRANCH
ORGANIZER;CN="Lincoln Pelham Public Library":MAILTO:programmers@lppl.ca
END:VEVENT
BEGIN:VEVENT
DTSTART;TZID=America/Toronto:20251202T100000
DTEND;TZID=America/Toronto:20251202T120000
DTSTAMP:20260423T183446
CREATED:20251017T175611Z
LAST-MODIFIED:20251017T175611Z
UID:10005873-1764669600-1764676800@lppl.ca
SUMMARY:A Hand Along the Way
DESCRIPTION:A monthly grief support group. \nIn partnership with Rose Cottage Visiting Volunteers. \nTo register\, contact RCVV at 289-566-9588 or info.rcvv@gmail.com. \nFree; registration required. \nPlease note:  \n\nProgram fees are non-refundable unless a program is cancelled or rescheduled by Lincoln Pelham Public Library.\nIf fees ever present a barrier to participation\, or should you require assistance or accommodations related to you or your child’s ability to attend a program\, please contact Susan by phone: 905-562-5711 or email: programmers@lppl.ca.\nChildren 10 years of age or under attending Library programs or events must have a caregiver present in the Library. Where Library programs or events are held outside of the Library building\, the caregiver must remain within visual range of children.\nYour attendance at Lincoln Pelham Public Library programs may be digitally recorded through photographs or video recordings. These images/videos may be posted on our website\, on social media outlets\, or local publications. If you do not wish your image to be published\, please notify Library staff before or immediately after the program. No individual identification will be used unless the Library has obtained express consent.\nLPPL welcomes donations so we can continue to offer free and affordable programs. You can donate at any LPPL branch or online here.
URL:https://lppl.ca/event/a-hand-along-the-way-6/2025-12-02/
LOCATION:Rittenhouse Branch\, Vineland\, 4080 John Charles Blvd\, Vineland\, ON\, L0R 2C0\, Canada
CATEGORIES:RITTENHOUSE BRANCH
ORGANIZER;CN="Lincoln Pelham Public Library":MAILTO:programmers@lppl.ca
END:VEVENT
BEGIN:VEVENT
DTSTART;TZID=America/Toronto:20251202T130000
DTEND;TZID=America/Toronto:20251202T150000
DTSTAMP:20260423T183446
CREATED:20251017T165604Z
LAST-MODIFIED:20251017T170218Z
UID:10005845-1764680400-1764687600@lppl.ca
SUMMARY:Introduction to Computers
DESCRIPTION:This class for beginners introduces the basic concepts of using a computer with Windows 11\, including mouse movements\, online safety\, and email basics. \nIn partnership with Niagara West Adult Learning Centre. \nRegister by calling 905- 563-1515. \nFree; registration required \nPlease note:  \n\nProgram fees are non-refundable unless a program is cancelled or rescheduled by Lincoln Pelham Public Library.\nIf fees ever present a barrier to participation\, or should you require assistance or accommodations related to you or your child’s ability to attend a program\, please contact Susan by phone: 905-562-5711 or email: programmers@lppl.ca.\nChildren 10 years of age or under attending Library programs or events must have a caregiver present in the Library. Where Library programs or events are held outside of the Library building\, the caregiver must remain within visual range of children.\nYour attendance at Lincoln Pelham Public Library programs may be digitally recorded through photographs or video recordings. These images/videos may be posted on our website\, on social media outlets\, or local publications. If you do not wish your image to be published\, please notify Library staff before or immediately after the program. No individual identification will be used unless the Library has obtained express consent.\nLPPL welcomes donations so we can continue to offer free and affordable programs. You can donate at any LPPL branch or online here.
URL:https://lppl.ca/event/introduction-to-computers-8/2025-12-02/
LOCATION:Fonthill Branch\, Fonthill\, 43 Pelham Town Square\, Fonthill\, Ontario\, L0S 1E0\, Canada
CATEGORIES:FONTHILL BRANCH
ORGANIZER;CN="Lincoln Pelham Public Library":MAILTO:programmers@lppl.ca
END:VEVENT
BEGIN:VEVENT
DTSTART;TZID=America/Toronto:20251203T130000
DTEND;TZID=America/Toronto:20251203T150000
DTSTAMP:20260423T183446
CREATED:20251017T170021Z
LAST-MODIFIED:20251017T170021Z
UID:10005855-1764766800-1764774000@lppl.ca
SUMMARY:Introduction to Computers
DESCRIPTION:This class for beginners introduces the basic concepts of using a computer with Windows 11\, including mouse movements\, online safety\, and email basics. \nLocation for these classes is the Niagara West Adult Learning Centre: 4271 Queen St\, Beamsville \nIn partnership with Niagara West Adult Learning Centre. \nRegister by calling 905- 563-1515. \nFree; registration required \nPlease note:  \n\nProgram fees are non-refundable unless a program is cancelled or rescheduled by Lincoln Pelham Public Library.\nIf fees ever present a barrier to participation\, or should you require assistance or accommodations related to you or your child’s ability to attend a program\, please contact Susan by phone: 905-562-5711 or email: programmers@lppl.ca.\nChildren 10 years of age or under attending Library programs or events must have a caregiver present in the Library. Where Library programs or events are held outside of the Library building\, the caregiver must remain within visual range of children.\nYour attendance at Lincoln Pelham Public Library programs may be digitally recorded through photographs or video recordings. These images/videos may be posted on our website\, on social media outlets\, or local publications. If you do not wish your image to be published\, please notify Library staff before or immediately after the program. No individual identification will be used unless the Library has obtained express consent.\nLPPL welcomes donations so we can continue to offer free and affordable programs. You can donate at any LPPL branch or online here.
URL:https://lppl.ca/event/introduction-to-computers-9/2025-12-03/
LOCATION:ON
CATEGORIES:COMMUNITY
ORGANIZER;CN="Lincoln Pelham Public Library":MAILTO:programmers@lppl.ca
END:VEVENT
BEGIN:VEVENT
DTSTART;TZID=America/Toronto:20251204T133000
DTEND;TZID=America/Toronto:20251204T143000
DTSTAMP:20260423T183446
CREATED:20251017T175929Z
LAST-MODIFIED:20251113T181144Z
UID:10005893-1764855000-1764858600@lppl.ca
SUMMARY:Connect & Care Memory Cafe (DROP IN)
DESCRIPTION:Find peer support and participate in activities for care partners and loved ones living with dementia. \nFree; drop in \n\nPlease note: \n\n\nProgram fees are non-refundable unless a program is cancelled or rescheduled by Lincoln Pelham Public Library.\nIf fees ever present a barrier to participation\, or should you require assistance or accommodations related to you or your child’s ability to attend a program\, please contact Susan by phone: 905-562-5711 or email: programmers@lppl.ca.\nChildren 10 years of age or under attending Library programs or events must have a caregiver present in the Library. Where Library programs or events are held outside of the Library building\, the caregiver must remain within visual range of children.\nYour attendance at Lincoln Pelham Public Library programs may be digitally recorded through photographs or video recordings. These images/videos may be posted on our website\, on social media outlets\, or local publications. If you do not wish your image to be published\, please notify Library staff before or immediately after the program. No individual identification will be used unless the Library has obtained express consent.\nLPPL welcomes donations so we can continue to offer free and affordable programs. You can donate at any LPPL branch or online here.
URL:https://lppl.ca/event/connect-care-memory-cafe-drop-in-7/2025-12-04/
LOCATION:Rittenhouse Branch\, Vineland\, 4080 John Charles Blvd\, Vineland\, ON\, L0R 2C0\, Canada
CATEGORIES:RITTENHOUSE BRANCH
ORGANIZER;CN="Lincoln Pelham Public Library":MAILTO:programmers@lppl.ca
END:VEVENT
BEGIN:VEVENT
DTSTART;TZID=America/Toronto:20251205T133000
DTEND;TZID=America/Toronto:20251205T153000
DTSTAMP:20260423T183446
CREATED:20250829T154640Z
LAST-MODIFIED:20251127T204742Z
UID:10005687-1764941400-1764948600@lppl.ca
SUMMARY:TGIF Crafters (DROP IN)
DESCRIPTION:Bring your knitting\, crocheting\, or any portable craft for an afternoon of conversation and fun. \nPlease note:  \n\nProgram fees are non-refundable unless a program is cancelled or rescheduled by Lincoln Pelham Public Library.\nIf fees ever present a barrier to participation\, or should you require assistance or accommodations related to you or your child’s ability to attend a program\, please contact Susan by phone: 905-562-5711 or email: programmers@lppl.ca.\nChildren 10 years of age or under attending Library programs or events must have a caregiver present in the Library. Where Library programs or events are held outside of the Library building\, the caregiver must remain within visual range of children.\nYour attendance at Lincoln Pelham Public Library programs may be digitally recorded through photographs or video recordings. These images/videos may be posted on our website\, on social media outlets\, or local publications. If you do not wish your image to be published\, please notify Library staff before or immediately after the program. No individual identification will be used unless the Library has obtained express consent.\nLPPL welcomes donations so we can continue to offer free and affordable programs. You can donate at any LPPL branch or online here.
URL:https://lppl.ca/event/tgif-crafters-drop-in/2025-12-05/
LOCATION:Fonthill Branch\, Fonthill\, 43 Pelham Town Square\, Fonthill\, Ontario\, L0S 1E0\, Canada
CATEGORIES:FONTHILL BRANCH
ORGANIZER;CN="Lincoln Pelham Public Library":MAILTO:programmers@lppl.ca
END:VEVENT
BEGIN:VEVENT
DTSTART;TZID=America/Toronto:20251206T110000
DTEND;TZID=America/Toronto:20251206T123000
DTSTAMP:20260423T183446
CREATED:20251119T151959Z
LAST-MODIFIED:20251119T151959Z
UID:10005894-1765018800-1765024200@lppl.ca
SUMMARY:Kindness Circle: Winter Calm
DESCRIPTION:Enjoy a guided imagery experience to relax the mind. Learn simple tips to stay calm and grounded through the end-of-year rush. The Kindness Circle is for anyone who may feel anxious\, alone\, or simply in need of direction! \nHosted by: BB Elizabeth Carver – Author & Kindfulness Coach\, Kindfulness Coaching & Wellness\n \nPlease note:  \n\nProgram fees are non-refundable unless a program is cancelled or rescheduled by Lincoln Pelham Public Library.\nIf fees ever present a barrier to participation\, or should you require assistance or accommodations related to you or your child’s ability to attend a program\, please contact Susan by phone: 905-562-5711 or email: programmers@lppl.ca.\nChildren 10 years of age or under attending Library programs or events must have a caregiver present in the Library. Where Library programs or events are held outside of the Library building\, the caregiver must remain within visual range of children.\nYour attendance at Lincoln Pelham Public Library programs may be digitally recorded through photographs or video recordings. These images/videos may be posted on our website\, on social media outlets\, or local publications. If you do not wish your image to be published\, please notify Library staff before or immediately after the program. No individual identification will be used unless the Library has obtained express consent.\nLPPL welcomes donations so we can continue to offer free and affordable programs. You can donate at any LPPL branch or online here.\n\n 
URL:https://lppl.ca/event/kindness-circle-winter-calm/
LOCATION:Rittenhouse Branch\, Vineland\, 4080 John Charles Blvd\, Vineland\, ON\, L0R 2C0\, Canada
CATEGORIES:RITTENHOUSE BRANCH
ORGANIZER;CN="Lincoln Pelham Public Library":MAILTO:programmers@lppl.ca
END:VEVENT
END:VCALENDAR