BEGIN:VCALENDAR
VERSION:2.0
PRODID:-//Lincoln Pelham Public Library - ECPv6.15.20//NONSGML v1.0//EN
CALSCALE:GREGORIAN
METHOD:PUBLISH
X-WR-CALNAME:Lincoln Pelham Public Library
X-ORIGINAL-URL:https://lppl.ca
X-WR-CALDESC:Events for Lincoln Pelham Public Library
REFRESH-INTERVAL;VALUE=DURATION:PT1H
X-Robots-Tag:noindex
X-PUBLISHED-TTL:PT1H
BEGIN:VTIMEZONE
TZID:America/Toronto
BEGIN:DAYLIGHT
TZOFFSETFROM:-0500
TZOFFSETTO:-0400
TZNAME:EDT
DTSTART:20250309T070000
END:DAYLIGHT
BEGIN:STANDARD
TZOFFSETFROM:-0400
TZOFFSETTO:-0500
TZNAME:EST
DTSTART:20251102T060000
END:STANDARD
BEGIN:DAYLIGHT
TZOFFSETFROM:-0500
TZOFFSETTO:-0400
TZNAME:EDT
DTSTART:20260308T070000
END:DAYLIGHT
BEGIN:STANDARD
TZOFFSETFROM:-0400
TZOFFSETTO:-0500
TZNAME:EST
DTSTART:20261101T060000
END:STANDARD
BEGIN:DAYLIGHT
TZOFFSETFROM:-0500
TZOFFSETTO:-0400
TZNAME:EDT
DTSTART:20270314T070000
END:DAYLIGHT
BEGIN:STANDARD
TZOFFSETFROM:-0400
TZOFFSETTO:-0500
TZNAME:EST
DTSTART:20271107T060000
END:STANDARD
END:VTIMEZONE
BEGIN:VEVENT
DTSTART;TZID=America/Toronto:20260525T100000
DTEND;TZID=America/Toronto:20260525T120000
DTSTAMP:20260423T140520
CREATED:20260420T152156Z
LAST-MODIFIED:20260420T152606Z
UID:10007088-1779703200-1779710400@lppl.ca
SUMMARY:Knit and Chat (DROP IN)
DESCRIPTION:Bring your projects and enjoy conversation by the fireplace. \nPlease note:  \n\nProgram fees are non-refundable unless a program is cancelled or rescheduled by Lincoln Pelham Public Library.\nIf fees ever present a barrier to participation\, or should you require assistance or accommodations related to you or your child’s ability to attend a program\, please contact Susan by phone: 905-562-5711 or email: programmers@lppl.ca.\nChildren 10 years of age or under attending Library programs or events must have a caregiver present in the Library. Where Library programs or events are held outside of the Library building\, the caregiver must remain within visual range of children.\nYour attendance at Lincoln Pelham Public Library programs may be digitally recorded through photographs or video recordings. These images/videos may be posted on our website\, on social media outlets\, or local publications. If you do not wish your image to be published\, please notify Library staff before or immediately after the program. No individual identification will be used unless the Library has obtained express consent.\nLPPL welcomes donations so we can continue to offer free and affordable programs. You can donate at any LPPL branch or online here.
URL:https://lppl.ca/event/knit-and-chat-drop-in/2026-05-25/
LOCATION:Fleming Branch\, Beamsville\, 5020 Serena Drive\, Beamsville\, ON\, L3J 0T2\, Canada
CATEGORIES:FLEMING BRANCH
ORGANIZER;CN="Lincoln Pelham Public Library":MAILTO:programmers@lppl.ca
END:VEVENT
BEGIN:VEVENT
DTSTART;TZID=America/Toronto:20260525T130000
DTEND;TZID=America/Toronto:20260525T140000
DTSTAMP:20260423T140520
CREATED:20260417T201013Z
LAST-MODIFIED:20260417T201013Z
UID:10006980-1779714000-1779717600@lppl.ca
SUMMARY:Create and Chat (DROP IN)
DESCRIPTION:Make a seasonal craft\, plus enjoy a social atmosphere. \nFor teens and adults of all ages and abilities. \nFree; drop in \nPlease note:  \n\nProgram fees are non-refundable unless a program is cancelled or rescheduled by Lincoln Pelham Public Library.\nIf fees ever present a barrier to participation\, or should you require assistance or accommodations related to you or your child’s ability to attend a program\, please contact Susan by phone: 905-562-5711 or email: programmers@lppl.ca.\nChildren 10 years of age or under attending Library programs or events must have a caregiver present in the Library. Where Library programs or events are held outside of the Library building\, the caregiver must remain within visual range of children.\nYour attendance at Lincoln Pelham Public Library programs may be digitally recorded through photographs or video recordings. These images/videos may be posted on our website\, on social media outlets\, or local publications. If you do not wish your image to be published\, please notify Library staff before or immediately after the program. No individual identification will be used unless the Library has obtained express consent.\nLPPL welcomes donations so we can continue to offer free and affordable programs. You can donate at any LPPL branch or online here.
URL:https://lppl.ca/event/create-and-chat-drop-in-3/2026-05-25/
LOCATION:Fleming Branch\, Beamsville\, 5020 Serena Drive\, Beamsville\, ON\, L3J 0T2\, Canada
CATEGORIES:FLEMING BRANCH
ORGANIZER;CN="Lincoln Pelham Public Library":MAILTO:programmers@lppl.ca
END:VEVENT
BEGIN:VEVENT
DTSTART;TZID=America/Toronto:20260525T140000
DTEND;TZID=America/Toronto:20260525T150000
DTSTAMP:20260423T140520
CREATED:20250828T195907Z
LAST-MODIFIED:20250828T200350Z
UID:10005363-1779717600-1779721200@lppl.ca
SUMMARY:Last Monday Afternoon Book Club
DESCRIPTION:Read and talk about books! A limited number of copies are available to borrow. eBooks and audiobooks may be available on Libby. \nIf you have questions or would like to join later in the year\, please contact Kolleen: kkanar@lppl.ca. \nRegistration is for October – May (no meeting in December). \nPlease note:  \n\nProgram fees are non-refundable unless a program is cancelled or rescheduled by Lincoln Pelham Public Library.\nIf fees ever present a barrier to participation\, or should you require assistance or accommodations related to you or your child’s ability to attend a program\, please contact Susan by phone: 905-562-5711 or email: programmers@lppl.ca.\nChildren 10 years of age or under attending Library programs or events must have a caregiver present in the Library. Where Library programs or events are held outside of the Library building\, the caregiver must remain within visual range of children.\nYour attendance at Lincoln Pelham Public Library programs may be digitally recorded through photographs or video recordings. These images/videos may be posted on our website\, on social media outlets\, or local publications. If you do not wish your image to be published\, please notify Library staff before or immediately after the program. No individual identification will be used unless the Library has obtained express consent.\nLPPL welcomes donations so we can continue to offer free and affordable programs. You can donate at any LPPL branch or online here.
URL:https://lppl.ca/event/last-monday-afternoon-book-club-3/2026-05-25/
LOCATION:Fonthill Branch\, Fonthill\, 43 Pelham Town Square\, Fonthill\, Ontario\, L0S 1E0\, Canada
CATEGORIES:FONTHILL BRANCH
ORGANIZER;CN="Lincoln Pelham Public Library":MAILTO:programmers@lppl.ca
END:VEVENT
BEGIN:VEVENT
DTSTART;TZID=America/Toronto:20260525T190000
DTEND;TZID=America/Toronto:20260525T200000
DTSTAMP:20260423T140520
CREATED:20250828T204809Z
LAST-MODIFIED:20250828T204809Z
UID:10005396-1779735600-1779739200@lppl.ca
SUMMARY:Books and Brews Book Club
DESCRIPTION:Read and talk about books! A limited number of copies are available to borrow. eBooks and audiobooks may be available on Libby. \nIf you have questions or would like to join later in the year\, please contact Kelly:kspence@lppl.ca. \nRegistration is for October – May (no meeting in December). \nLocation: Bench Brewing\, 3991 King Street\, Lincoln\, Ontario L3J 1E7 \nPlease note:  \n\nProgram fees are non-refundable unless a program is cancelled or rescheduled by Lincoln Pelham Public Library.\nIf fees ever present a barrier to participation\, or should you require assistance or accommodations related to you or your child’s ability to attend a program\, please contact Susan by phone: 905-562-5711 or email: programmers@lppl.ca.\nChildren 10 years of age or under attending Library programs or events must have a caregiver present in the Library. Where Library programs or events are held outside of the Library building\, the caregiver must remain within visual range of children.\nYour attendance at Lincoln Pelham Public Library programs may be digitally recorded through photographs or video recordings. These images/videos may be posted on our website\, on social media outlets\, or local publications. If you do not wish your image to be published\, please notify Library staff before or immediately after the program. No individual identification will be used unless the Library has obtained express consent.\nLPPL welcomes donations so we can continue to offer free and affordable programs. You can donate at any LPPL branch or online here.
URL:https://lppl.ca/event/books-and-brews-book-club-2/2026-05-25/
LOCATION:Bench Brewing\, 3991 King Street\, Lincoln\, Ontario\, L3J 1E7\, Canada
CATEGORIES:COMMUNITY
ORGANIZER;CN="Lincoln Pelham Public Library":MAILTO:programmers@lppl.ca
END:VEVENT
BEGIN:VEVENT
DTSTART;TZID=America/Toronto:20260526T100000
DTEND;TZID=America/Toronto:20260526T120000
DTSTAMP:20260423T140520
CREATED:20260420T151453Z
LAST-MODIFIED:20260420T151453Z
UID:10007065-1779789600-1779796800@lppl.ca
SUMMARY:Tuesday Morning Crafters (DROP IN)
DESCRIPTION:Bring your projects and enjoy conversation and community. \nFree; drop in \nPlease note:  \n\nProgram fees are non-refundable unless a program is cancelled or rescheduled by Lincoln Pelham Public Library.\nIf fees ever present a barrier to participation\, or should you require assistance or accommodations related to you or your child’s ability to attend a program\, please contact Susan by phone: 905-562-5711 or email: programmers@lppl.ca.\nChildren 10 years of age or under attending Library programs or events must have a caregiver present in the Library. Where Library programs or events are held outside of the Library building\, the caregiver must remain within visual range of children.\nYour attendance at Lincoln Pelham Public Library programs may be digitally recorded through photographs or video recordings. These images/videos may be posted on our website\, on social media outlets\, or local publications. If you do not wish your image to be published\, please notify Library staff before or immediately after the program. No individual identification will be used unless the Library has obtained express consent.\nLPPL welcomes donations so we can continue to offer free and affordable programs. You can donate at any LPPL branch or online here.
URL:https://lppl.ca/event/tuesday-morning-crafters-drop-in-4/2026-05-26/
LOCATION:Rittenhouse Branch\, Vineland\, 4080 John Charles Blvd\, Vineland\, ON\, L0R 2C0\, Canada
CATEGORIES:RITTENHOUSE BRANCH
ORGANIZER;CN="Lincoln Pelham Public Library":MAILTO:programmers@lppl.ca
END:VEVENT
BEGIN:VEVENT
DTSTART;TZID=America/Toronto:20260527T130000
DTEND;TZID=America/Toronto:20260527T150000
DTSTAMP:20260423T140520
CREATED:20260420T170527Z
LAST-MODIFIED:20260420T170527Z
UID:10007113-1779886800-1779894000@lppl.ca
SUMMARY:Introduction to Computers
DESCRIPTION:This class for beginners introduces the basic concepts of using a computer with Windows 11\, including mouse movements\, online safety\, and email basics. \nLocation for these classes is the Niagara West Adult Learning Centre: 4271 Queen St\, Beamsville \nIn partnership with Niagara West Adult Learning Centre. \nRegister by calling 905- 563-1515. \nFree; registration required \nPlease note:  \n\nProgram fees are non-refundable unless a program is cancelled or rescheduled by Lincoln Pelham Public Library.\nIf fees ever present a barrier to participation\, or should you require assistance or accommodations related to you or your child’s ability to attend a program\, please contact Susan by phone: 905-562-5711 or email: programmers@lppl.ca.\nChildren 10 years of age or under attending Library programs or events must have a caregiver present in the Library. Where Library programs or events are held outside of the Library building\, the caregiver must remain within visual range of children.\nYour attendance at Lincoln Pelham Public Library programs may be digitally recorded through photographs or video recordings. These images/videos may be posted on our website\, on social media outlets\, or local publications. If you do not wish your image to be published\, please notify Library staff before or immediately after the program. No individual identification will be used unless the Library has obtained express consent.\nLPPL welcomes donations so we can continue to offer free and affordable programs. You can donate at any LPPL branch or online here.
URL:https://lppl.ca/event/introduction-to-computers-4/2026-05-27/
LOCATION:ON
CATEGORIES:COMMUNITY
ORGANIZER;CN="Lincoln Pelham Public Library":MAILTO:programmers@lppl.ca
END:VEVENT
BEGIN:VEVENT
DTSTART;TZID=America/Toronto:20260527T133000
DTEND;TZID=America/Toronto:20260527T153000
DTSTAMP:20260423T140520
CREATED:20260420T171727Z
LAST-MODIFIED:20260420T171727Z
UID:10007122-1779888600-1779895800@lppl.ca
SUMMARY:Memory Lab
DESCRIPTION:Book a free one-hour appointment to learn how to preserve\, convert\, and digitize photos and videos. Please note users must supply their own storage device. \nFree; registration required \nBook by calling the library or by clicking here: Book a free one-hour appointment
URL:https://lppl.ca/event/memory-lab-3/2026-05-27/
LOCATION:Rittenhouse Branch\, Vineland\, 4080 John Charles Blvd\, Vineland\, ON\, L0R 2C0\, Canada
CATEGORIES:RITTENHOUSE BRANCH
END:VEVENT
BEGIN:VEVENT
DTSTART;TZID=America/Toronto:20260528T100000
DTEND;TZID=America/Toronto:20260528T113000
DTSTAMP:20260423T140520
CREATED:20260420T182135Z
LAST-MODIFIED:20260420T182135Z
UID:10007181-1779962400-1779967800@lppl.ca
SUMMARY:LPPL's Walking Club
DESCRIPTION:Join LPPL’s new Walking Club! Walks are a fantastic way to experience the physical and mental benefits of the outdoors. Join staff and volunteers for a weekly walk in central Beamsville.\nAll walks will begin at the Fleming Centre and follow local paved trails. \nFree; Registration required. \nPlease note:  \n\nProgram fees are non-refundable unless a program is cancelled or rescheduled by Lincoln Pelham Public Library.\nIf fees ever present a barrier to participation\, or should you require assistance or accommodations related to you or your child’s ability to attend a program\, please contact Susan by phone: 905-562-5711 or email: programmers@lppl.ca.\nChildren 10 years of age or under attending Library programs or events must have a caregiver present in the Library. Where Library programs or events are held outside of the Library building\, the caregiver must remain within visual range of children.\nYour attendance at Lincoln Pelham Public Library programs may be digitally recorded through photographs or video recordings. These images/videos may be posted on our website\, on social media outlets\, or local publications. If you do not wish your image to be published\, please notify Library staff before or immediately after the program. No individual identification will be used unless the Library has obtained express consent.\nLPPL welcomes donations so we can continue to offer free and affordable programs. You can donate at any LPPL branch or online here.
URL:https://lppl.ca/event/lppls-walking-club-4/
LOCATION:Fleming Branch\, Beamsville\, 5020 Serena Drive\, Beamsville\, ON\, L3J 0T2\, Canada
CATEGORIES:FLEMING BRANCH
ORGANIZER;CN="Lincoln Pelham Public Library":MAILTO:programmers@lppl.ca
END:VEVENT
BEGIN:VEVENT
DTSTART;TZID=America/Toronto:20260528T101500
DTEND;TZID=America/Toronto:20260528T111500
DTSTAMP:20260423T140520
CREATED:20250828T194924Z
LAST-MODIFIED:20250828T194944Z
UID:10005341-1779963300-1779966900@lppl.ca
SUMMARY:Fourth Thursday Morning Book Club
DESCRIPTION:Read and talk about books! A limited number of copies are available to borrow. eBooks and audiobooks may be available on Libby. \nIf you have questions or would like to join later in the year\, please contact Margaret: mdaley@lppl.ca. \nRegistration is for October – May (no meeting in December). \nPlease note:  \n\nProgram fees are non-refundable unless a program is cancelled or rescheduled by Lincoln Pelham Public Library.\nIf fees ever present a barrier to participation\, or should you require assistance or accommodations related to you or your child’s ability to attend a program\, please contact Susan by phone: 905-562-5711 or email: programmers@lppl.ca.\nChildren 10 years of age or under attending Library programs or events must have a caregiver present in the Library. Where Library programs or events are held outside of the Library building\, the caregiver must remain within visual range of children.\nYour attendance at Lincoln Pelham Public Library programs may be digitally recorded through photographs or video recordings. These images/videos may be posted on our website\, on social media outlets\, or local publications. If you do not wish your image to be published\, please notify Library staff before or immediately after the program. No individual identification will be used unless the Library has obtained express consent.\nLPPL welcomes donations so we can continue to offer free and affordable programs. You can donate at any LPPL branch or online here.
URL:https://lppl.ca/event/fourth-thursday-morning-book-club-2/2026-05-28/
LOCATION:Fonthill Branch\, Fonthill\, 43 Pelham Town Square\, Fonthill\, Ontario\, L0S 1E0\, Canada
CATEGORIES:FONTHILL BRANCH
ORGANIZER;CN="Lincoln Pelham Public Library":MAILTO:programmers@lppl.ca
END:VEVENT
BEGIN:VEVENT
DTSTART;TZID=America/Toronto:20260528T110000
DTEND;TZID=America/Toronto:20260528T120000
DTSTAMP:20260423T140520
CREATED:20260417T194113Z
LAST-MODIFIED:20260417T194113Z
UID:10006962-1779966000-1779969600@lppl.ca
SUMMARY:Chapter Chat: Fonthill Renovation Update (DROP IN)
DESCRIPTION:An exciting $4 million\, two-phase renovation improving accessibility and modernizing the Fonthill Branch is getting underway this year! \nPhase One ($1.5 million): Fully funded by the Town of Pelham\, Phase One includes a new accessible entrance with sliding doors\, new washrooms—\nincluding the addition of universal washroom\, and a refurbished and expanded program room. \nPhase Two ($2.5 million): The second phase includes the installation of an elevator to open access to the basement and add 3\,000 square feet of public space on the main floor. Fundraising\nfor Phase Two is underway. Thanks to early donations\, only $1.5 million remains to be raised to complete Phase Two. \nJoin us for monthly chapter chats to hear the latest updates and learn how you can support this project. Refreshments provided. \nFree; drop in
URL:https://lppl.ca/event/chapter-chat-fonthill-renovation-update-drop-in-3/
LOCATION:Fonthill Branch\, Fonthill\, 43 Pelham Town Square\, Fonthill\, Ontario\, L0S 1E0\, Canada
CATEGORIES:FONTHILL BRANCH
ORGANIZER;CN="Lincoln Pelham Public Library":MAILTO:programmers@lppl.ca
END:VEVENT
BEGIN:VEVENT
DTSTART;TZID=America/Toronto:20260528T183000
DTEND;TZID=America/Toronto:20260528T193000
DTSTAMP:20260423T140520
CREATED:20260420T165417Z
LAST-MODIFIED:20260420T225415Z
UID:10007104-1779993000-1779996600@lppl.ca
SUMMARY:Local Author Visit: Steve McLellan\, In Spirits Shadow
DESCRIPTION:Steve McLellan joins Yvonne Van Lankveld for a candid discussion about In Spirits Shadow—the first book of a new suspense trilogy—in which famous people from history are snatched by a watchful and benevolent species at the time of their deaths and tasked with protecting the Earth from peril. \nFree; registration recommended. \nPlease note:  \n\nProgram fees are non-refundable unless a program is cancelled or rescheduled by Lincoln Pelham Public Library.\nIf fees ever present a barrier to participation\, or should you require assistance or accommodations related to you or your child’s ability to attend a program\, please contact Susan by phone: 905-562-5711 or email: programmers@lppl.ca.\nChildren 10 years of age or under attending Library programs or events must have a caregiver present in the Library. Where Library programs or events are held outside of the Library building\, the caregiver must remain within visual range of children.\nYour attendance at Lincoln Pelham Public Library programs may be digitally recorded through photographs or video recordings. These images/videos may be posted on our website\, on social media outlets\, or local publications. If you do not wish your image to be published\, please notify Library staff before or immediately after the program. No individual identification will be used unless the Library has obtained express consent.\nLPPL welcomes donations so we can continue to offer free and affordable programs. You can donate at any LPPL branch or online here.
URL:https://lppl.ca/event/local-author-visit-steve-mclellan-in-spirits-shadow/
LOCATION:Fonthill Branch\, Fonthill\, 43 Pelham Town Square\, Fonthill\, Ontario\, L0S 1E0\, Canada
CATEGORIES:FONTHILL BRANCH
ORGANIZER;CN="Lincoln Pelham Public Library":MAILTO:programmers@lppl.ca
END:VEVENT
BEGIN:VEVENT
DTSTART;TZID=America/Toronto:20260529T133000
DTEND;TZID=America/Toronto:20260529T153000
DTSTAMP:20260423T140520
CREATED:20260420T150502Z
LAST-MODIFIED:20260420T150657Z
UID:10007039-1780061400-1780068600@lppl.ca
SUMMARY:TGIF Crafters (DROP IN)
DESCRIPTION:Bring your knitting\, crocheting\, or any portable craft for an afternoon of conversation and fun. \nPlease note:  \n\nProgram fees are non-refundable unless a program is cancelled or rescheduled by Lincoln Pelham Public Library.\nIf fees ever present a barrier to participation\, or should you require assistance or accommodations related to you or your child’s ability to attend a program\, please contact Susan by phone: 905-562-5711 or email: programmers@lppl.ca.\nChildren 10 years of age or under attending Library programs or events must have a caregiver present in the Library. Where Library programs or events are held outside of the Library building\, the caregiver must remain within visual range of children.\nYour attendance at Lincoln Pelham Public Library programs may be digitally recorded through photographs or video recordings. These images/videos may be posted on our website\, on social media outlets\, or local publications. If you do not wish your image to be published\, please notify Library staff before or immediately after the program. No individual identification will be used unless the Library has obtained express consent.\nLPPL welcomes donations so we can continue to offer free and affordable programs. You can donate at any LPPL branch or online here.
URL:https://lppl.ca/event/tgif-crafters-drop-in-3/2026-05-29/
LOCATION:Fonthill Branch\, Fonthill\, 43 Pelham Town Square\, Fonthill\, Ontario\, L0S 1E0\, Canada
CATEGORIES:FONTHILL BRANCH
ORGANIZER;CN="Lincoln Pelham Public Library":MAILTO:programmers@lppl.ca
END:VEVENT
END:VCALENDAR