BEGIN:VCALENDAR
VERSION:2.0
PRODID:-//Lincoln Pelham Public Library - ECPv6.15.20//NONSGML v1.0//EN
CALSCALE:GREGORIAN
METHOD:PUBLISH
X-ORIGINAL-URL:https://lppl.ca
X-WR-CALDESC:Events for Lincoln Pelham Public Library
REFRESH-INTERVAL;VALUE=DURATION:PT1H
X-Robots-Tag:noindex
X-PUBLISHED-TTL:PT1H
BEGIN:VTIMEZONE
TZID:America/Toronto
BEGIN:DAYLIGHT
TZOFFSETFROM:-0500
TZOFFSETTO:-0400
TZNAME:EDT
DTSTART:20240310T070000
END:DAYLIGHT
BEGIN:STANDARD
TZOFFSETFROM:-0400
TZOFFSETTO:-0500
TZNAME:EST
DTSTART:20241103T060000
END:STANDARD
BEGIN:DAYLIGHT
TZOFFSETFROM:-0500
TZOFFSETTO:-0400
TZNAME:EDT
DTSTART:20250309T070000
END:DAYLIGHT
BEGIN:STANDARD
TZOFFSETFROM:-0400
TZOFFSETTO:-0500
TZNAME:EST
DTSTART:20251102T060000
END:STANDARD
BEGIN:DAYLIGHT
TZOFFSETFROM:-0500
TZOFFSETTO:-0400
TZNAME:EDT
DTSTART:20260308T070000
END:DAYLIGHT
BEGIN:STANDARD
TZOFFSETFROM:-0400
TZOFFSETTO:-0500
TZNAME:EST
DTSTART:20261101T060000
END:STANDARD
END:VTIMEZONE
BEGIN:VEVENT
DTSTART;TZID=America/Toronto:20251117T103000
DTEND;TZID=America/Toronto:20251117T110000
DTSTAMP:20260423T190341
CREATED:20250828T192520Z
LAST-MODIFIED:20250828T193628Z
UID:10005213-1763375400-1763377200@lppl.ca
SUMMARY:Babies and Books (DROP IN)
DESCRIPTION:A fun and social time for babies and caregivers with stories\, songs\, and shakers! \nFor babies 0 – 15 months and caregivers. \nPlease note:  \n\nProgram fees are non-refundable unless a program is cancelled or rescheduled by Lincoln Pelham Public Library.\nIf fees ever present a barrier to participation\, or should you require assistance or accommodations related to you or your child’s ability to attend a program\, please contact Susan by phone: 905-562-5711 or email: programmers@lppl.ca.\nChildren 10 years of age or under attending Library programs or events must have a caregiver present in the Library. Where Library programs or events are held outside of the Library building\, the caregiver must remain within visual range of children.\nYour attendance at Lincoln Pelham Public Library programs may be digitally recorded through photographs or video recordings. These images/videos may be posted on our website\, on social media outlets\, or local publications. If you do not wish your image to be published\, please notify Library staff before or immediately after the program. No individual identification will be used unless the Library has obtained express consent.\nLPPL welcomes donations so we can continue to offer free and affordable programs. You can donate at any LPPL branch or online here.
URL:https://lppl.ca/event/babies-and-books-drop-in-6/2025-11-17/
LOCATION:Fleming Branch\, Beamsville\, 5020 Serena Drive\, Beamsville\, ON\, L3J 0T2\, Canada
CATEGORIES:FLEMING BRANCH
ORGANIZER;CN="Lincoln Pelham Public Library":MAILTO:programmers@lppl.ca
END:VEVENT
BEGIN:VEVENT
DTSTART;TZID=America/Toronto:20251117T160000
DTEND;TZID=America/Toronto:20251117T170000
DTSTAMP:20260423T190341
CREATED:20250828T224653Z
LAST-MODIFIED:20250828T225805Z
UID:10005417-1763395200-1763398800@lppl.ca
SUMMARY:Reading Buddies
DESCRIPTION:This literacy program helps new and emerging readers build confidence and improve reading skills. Each child is paired with a teen volunteer for reading activities and literacy-based games.  \nFor more information\, please email Leanne: lgood@lppl.ca. \nRecommended for readers in Kindergarten – Grade 2. \nPlease register for the first week only (October 20) and your child will be signed up for all five sessions (October 20\, 27\, November 3\, 17\, 24 Note: no session Nov 10) \nPlease note:  \n\nProgram fees are non-refundable unless a program is cancelled or rescheduled by Lincoln Pelham Public Library.\nIf fees ever present a barrier to participation\, or should you require assistance or accommodations related to you or your child’s ability to attend a program\, please contact Susan by phone: 905-562-5711 or email: programmers@lppl.ca.\nChildren 10 years of age or under attending Library programs or events must have a caregiver present in the Library. Where Library programs or events are held outside of the Library building\, the caregiver must remain within visual range of children.\nYour attendance at Lincoln Pelham Public Library programs may be digitally recorded through photographs or video recordings. These images/videos may be posted on our website\, on social media outlets\, or local publications. If you do not wish your image to be published\, please notify Library staff before or immediately after the program. No individual identification will be used unless the Library has obtained express consent.\nLPPL welcomes donations so we can continue to offer free and affordable programs. You can donate at any LPPL branch or online here.
URL:https://lppl.ca/event/reading-buddies-17/2025-11-17/
LOCATION:Fleming Branch\, Beamsville\, 5020 Serena Drive\, Beamsville\, ON\, L3J 0T2\, Canada
CATEGORIES:FLEMING BRANCH
ORGANIZER;CN="Lincoln Pelham Public Library":MAILTO:programmers@lppl.ca
END:VEVENT
BEGIN:VEVENT
DTSTART;TZID=America/Toronto:20251118T103000
DTEND;TZID=America/Toronto:20251118T110000
DTSTAMP:20260423T190341
CREATED:20250828T194609Z
LAST-MODIFIED:20250828T194609Z
UID:10005323-1763461800-1763463600@lppl.ca
SUMMARY:Story Time (DROP IN)
DESCRIPTION:Enjoy stories\, songs\, and fun at the library! \nAges 5 and under and caregivers. \nPlease note:  \n\nProgram fees are non-refundable unless a program is cancelled or rescheduled by Lincoln Pelham Public Library.\nIf fees ever present a barrier to participation\, or should you require assistance or accommodations related to you or your child’s ability to attend a program\, please contact Susan by phone: 905-562-5711 or email: programmers@lppl.ca.\nChildren 10 years of age or under attending Library programs or events must have a caregiver present in the Library. Where Library programs or events are held outside of the Library building\, the caregiver must remain within visual range of children.\nYour attendance at Lincoln Pelham Public Library programs may be digitally recorded through photographs or video recordings. These images/videos may be posted on our website\, on social media outlets\, or local publications. If you do not wish your image to be published\, please notify Library staff before or immediately after the program. No individual identification will be used unless the Library has obtained express consent.\nLPPL welcomes donations so we can continue to offer free and affordable programs. You can donate at any LPPL branch or online here.
URL:https://lppl.ca/event/story-time-drop-in-10/2025-11-18/
LOCATION:Fleming Branch\, Beamsville\, 5020 Serena Drive\, Beamsville\, ON\, L3J 0T2\, Canada
CATEGORIES:FLEMING BRANCH
ORGANIZER;CN="Lincoln Pelham Public Library":MAILTO:programmers@lppl.ca
END:VEVENT
BEGIN:VEVENT
DTSTART;TZID=America/Toronto:20251118T103000
DTEND;TZID=America/Toronto:20251118T110000
DTSTAMP:20260423T190341
CREATED:20251017T135542Z
LAST-MODIFIED:20251017T135542Z
UID:10005793-1763461800-1763463600@lppl.ca
SUMMARY:Story Time (DROP IN)
DESCRIPTION:Enjoy stories\, songs\, and fun at the library! \nAges 5 and under and caregivers. \nPlease note:  \n\nProgram fees are non-refundable unless a program is cancelled or rescheduled by Lincoln Pelham Public Library.\nIf fees ever present a barrier to participation\, or should you require assistance or accommodations related to you or your child’s ability to attend a program\, please contact Susan by phone: 905-562-5711 or email: programmers@lppl.ca.\nChildren 10 years of age or under attending Library programs or events must have a caregiver present in the Library. Where Library programs or events are held outside of the Library building\, the caregiver must remain within visual range of children.\nYour attendance at Lincoln Pelham Public Library programs may be digitally recorded through photographs or video recordings. These images/videos may be posted on our website\, on social media outlets\, or local publications. If you do not wish your image to be published\, please notify Library staff before or immediately after the program. No individual identification will be used unless the Library has obtained express consent.\nLPPL welcomes donations so we can continue to offer free and affordable programs. You can donate at any LPPL branch or online here.
URL:https://lppl.ca/event/story-time-drop-in-12/2025-11-18/
LOCATION:Fonthill Branch\, Fonthill\, 43 Pelham Town Square\, Fonthill\, Ontario\, L0S 1E0\, Canada
CATEGORIES:FONTHILL BRANCH
ORGANIZER;CN="Lincoln Pelham Public Library":MAILTO:programmers@lppl.ca
END:VEVENT
BEGIN:VEVENT
DTSTART;TZID=America/Toronto:20251118T113000
DTEND;TZID=America/Toronto:20251118T190000
DTSTAMP:20260423T190341
CREATED:20250617T165616Z
LAST-MODIFIED:20251017T152851Z
UID:10005823-1763465400-1763492400@lppl.ca
SUMMARY:Pathstone Mental Health Walk-In Clinic
DESCRIPTION:Get free counselling for children and youth 17 and under and their families. Walk in or by appointment. \nTo book\, call 1-800-263-4944. \nFor more information\, visit Pathstone Mental Health online. \nLocation: Meridian Community Centre\, 100 Meridian Way\, Fonthill
URL:https://lppl.ca/event/pathstone-mental-health-walk-in-clinic/2025-11-18/
CATEGORIES:COMMUNITY
ORGANIZER;CN="Lincoln Pelham Public Library":MAILTO:programmers@lppl.ca
END:VEVENT
BEGIN:VEVENT
DTSTART;TZID=America/Toronto:20251119T100000
DTEND;TZID=America/Toronto:20251119T113000
DTSTAMP:20260423T190341
CREATED:20250617T145732Z
LAST-MODIFIED:20250617T145732Z
UID:10004899-1763546400-1763551800@lppl.ca
SUMMARY:Preschool Social (DROP IN)
DESCRIPTION:Meet in the children’s area with your preschool child for unstructured play activities\, where little ones and caregivers can meet and socialize with others. \nFor ages 5 and under and caregivers. \nPlease note:  \n\nProgram fees are non-refundable unless a program is cancelled or rescheduled by Lincoln Pelham Public Library.\nIf fees ever present a barrier to participation\, or should you require assistance or accommodations related to you or your child’s ability to attend a program\, please contact Susan by phone: 905-562-5711 or email: programmers@lppl.ca.\nChildren 10 years of age or under attending Library programs or events must have a caregiver present in the Library. Where Library programs or events are held outside of the Library building\, the caregiver must remain within visual range of children.\nYour attendance at Lincoln Pelham Public Library programs may be digitally recorded through photographs or video recordings. These images/videos may be posted on our website\, on social media outlets\, or local publications. If you do not wish your image to be published\, please notify Library staff before or immediately after the program. No individual identification will be used unless the Library has obtained express consent.\nLPPL welcomes donations so we can continue to offer free and affordable programs. You can donate at any LPPL branch or online here.
URL:https://lppl.ca/event/preschool-social-drop-in-2/2025-11-19/
LOCATION:Fleming Branch\, Beamsville\, 5020 Serena Drive\, Beamsville\, ON\, L3J 0T2\, Canada
CATEGORIES:FLEMING BRANCH
ORGANIZER;CN="Lincoln Pelham Public Library":MAILTO:programmers@lppl.ca
END:VEVENT
BEGIN:VEVENT
DTSTART;TZID=America/Toronto:20251119T120000
DTEND;TZID=America/Toronto:20251119T123000
DTSTAMP:20260423T190341
CREATED:20251017T134212Z
LAST-MODIFIED:20251017T145558Z
UID:10005811-1763553600-1763555400@lppl.ca
SUMMARY:Babies and Books (DROP IN)
DESCRIPTION:A fun and social time for babies and caregivers with stories\, songs\, and shakers! \nFor babies 0 – 15 months and caregivers. \nPlease note:  \n\nProgram fees are non-refundable unless a program is cancelled or rescheduled by Lincoln Pelham Public Library.\nIf fees ever present a barrier to participation\, or should you require assistance or accommodations related to you or your child’s ability to attend a program\, please contact Susan by phone: 905-562-5711 or email: programmers@lppl.ca.\nChildren 10 years of age or under attending Library programs or events must have a caregiver present in the Library. Where Library programs or events are held outside of the Library building\, the caregiver must remain within visual range of children.\nYour attendance at Lincoln Pelham Public Library programs may be digitally recorded through photographs or video recordings. These images/videos may be posted on our website\, on social media outlets\, or local publications. If you do not wish your image to be published\, please notify Library staff before or immediately after the program. No individual identification will be used unless the Library has obtained express consent.\nLPPL welcomes donations so we can continue to offer free and affordable programs. You can donate at any LPPL branch or online here.
URL:https://lppl.ca/event/babies-and-books-drop-in-7/2025-11-19/
LOCATION:Fonthill Branch\, Fonthill\, 43 Pelham Town Square\, Fonthill\, Ontario\, L0S 1E0\, Canada
CATEGORIES:FONTHILL BRANCH
ORGANIZER;CN="Lincoln Pelham Public Library":MAILTO:programmers@lppl.ca
END:VEVENT
BEGIN:VEVENT
DTSTART;TZID=America/Toronto:20251120T103000
DTEND;TZID=America/Toronto:20251120T110000
DTSTAMP:20260423T190341
CREATED:20250828T195047Z
LAST-MODIFIED:20250828T195047Z
UID:10005346-1763634600-1763636400@lppl.ca
SUMMARY:Story Time (DROP IN)
DESCRIPTION:Enjoy stories\, songs\, and fun at the library! \nAges 5 and under and caregivers. \nPlease note:  \n\nProgram fees are non-refundable unless a program is cancelled or rescheduled by Lincoln Pelham Public Library.\nIf fees ever present a barrier to participation\, or should you require assistance or accommodations related to you or your child’s ability to attend a program\, please contact Susan by phone: 905-562-5711 or email: programmers@lppl.ca.\nChildren 10 years of age or under attending Library programs or events must have a caregiver present in the Library. Where Library programs or events are held outside of the Library building\, the caregiver must remain within visual range of children.\nYour attendance at Lincoln Pelham Public Library programs may be digitally recorded through photographs or video recordings. These images/videos may be posted on our website\, on social media outlets\, or local publications. If you do not wish your image to be published\, please notify Library staff before or immediately after the program. No individual identification will be used unless the Library has obtained express consent.\nLPPL welcomes donations so we can continue to offer free and affordable programs. You can donate at any LPPL branch or online here.
URL:https://lppl.ca/event/story-time-drop-in-11/2025-11-20/
LOCATION:Rittenhouse Branch\, Vineland\, 4080 John Charles Blvd\, Vineland\, ON\, L0R 2C0\, Canada
CATEGORIES:RITTENHOUSE BRANCH
ORGANIZER;CN="Lincoln Pelham Public Library":MAILTO:programmers@lppl.ca
END:VEVENT
BEGIN:VEVENT
DTSTART;TZID=America/Toronto:20251120T113000
DTEND;TZID=America/Toronto:20251120T190000
DTSTAMP:20260423T190341
CREATED:20250617T170210Z
LAST-MODIFIED:20251017T153141Z
UID:10005832-1763638200-1763665200@lppl.ca
SUMMARY:Pathstone Mental Health Walk-In Clinic
DESCRIPTION:Get free counselling for children and youth up to age 17 and their families. No health card is required. Walk in or by appointment (please note the last appointment time available is at 5:30 pm).  \nTo book\, call 1-800-263-4944. \nFor more information\, visit Pathstone Mental Health online.
URL:https://lppl.ca/event/pathstone-mental-health-walk-in-clinic-2/2025-11-20/
LOCATION:Fleming Branch\, Beamsville\, 5020 Serena Drive\, Beamsville\, ON\, L3J 0T2\, Canada
CATEGORIES:FLEMING BRANCH
ORGANIZER;CN="Lincoln Pelham Public Library":MAILTO:programmers@lppl.ca
END:VEVENT
BEGIN:VEVENT
DTSTART;TZID=America/Toronto:20251120T133000
DTEND;TZID=America/Toronto:20251120T143000
DTSTAMP:20260423T190341
CREATED:20251017T140645Z
LAST-MODIFIED:20251023T185839Z
UID:10005795-1763645400-1763649000@lppl.ca
SUMMARY:Homeschool Hangout
DESCRIPTION:Homeschooling families are invited to come learn with STEM activities. This month’s theme is Dinosaurs. \nFor learners of all ages \nFor questions\, email Leanne: lgood@lppl.ca \nFree; registration required \nPlease note:  \n\nProgram fees are non-refundable unless a program is cancelled or rescheduled by Lincoln Pelham Public Library.\nIf fees ever present a barrier to participation\, or should you require assistance or accommodations related to you or your child’s ability to attend a program\, please contact Susan by phone: 905-562-5711 or email: programmers@lppl.ca.\nChildren 10 years of age or under attending Library programs or events must have a caregiver present in the Library. Where Library programs or events are held outside of the Library building\, the caregiver must remain within visual range of children.\nYour attendance at Lincoln Pelham Public Library programs may be digitally recorded through photographs or video recordings. These images/videos may be posted on our website\, on social media outlets\, or local publications. If you do not wish your image to be published\, please notify Library staff before or immediately after the program. No individual identification will be used unless the Library has obtained express consent.\nLPPL welcomes donations so we can continue to offer free and affordable programs. You can donate at any LPPL branch or online here.
URL:https://lppl.ca/event/homeschool-hangout-9/
LOCATION:Rittenhouse Branch\, Vineland\, 4080 John Charles Blvd\, Vineland\, ON\, L0R 2C0\, Canada
CATEGORIES:RITTENHOUSE BRANCH
ORGANIZER;CN="Lincoln Pelham Public Library":MAILTO:programmers@lppl.ca
END:VEVENT
BEGIN:VEVENT
DTSTART;TZID=America/Toronto:20251120T183000
DTEND;TZID=America/Toronto:20251120T190000
DTSTAMP:20260423T190341
CREATED:20251017T142103Z
LAST-MODIFIED:20251017T142103Z
UID:10005798-1763663400-1763665200@lppl.ca
SUMMARY:Family Story Time (DROP IN)
DESCRIPTION:Join us for stories and a cozy time. Pajamas welcome! \nFor families with kids of all ages. \nFree; Drop in \nPlease note:  \n\nProgram fees are non-refundable unless a program is cancelled or rescheduled by Lincoln Pelham Public Library.\nIf fees ever present a barrier to participation\, or should you require assistance or accommodations related to you or your child’s ability to attend a program\, please contact Susan by phone: 905-562-5711 or email: programmers@lppl.ca.\nChildren 10 years of age or under attending Library programs or events must have a caregiver present in the Library. Where Library programs or events are held outside of the Library building\, the caregiver must remain within visual range of children.\nYour attendance at Lincoln Pelham Public Library programs may be digitally recorded through photographs or video recordings. These images/videos may be posted on our website\, on social media outlets\, or local publications. If you do not wish your image to be published\, please notify Library staff before or immediately after the program. No individual identification will be used unless the Library has obtained express consent.\nLPPL welcomes donations so we can continue to offer free and affordable programs. You can donate at any LPPL branch or online here.
URL:https://lppl.ca/event/family-story-time-drop-in-5/
LOCATION:Fleming Branch\, Beamsville\, 5020 Serena Drive\, Beamsville\, ON\, L3J 0T2\, Canada
CATEGORIES:FLEMING BRANCH
ORGANIZER;CN="Lincoln Pelham Public Library":MAILTO:programmers@lppl.ca
END:VEVENT
BEGIN:VEVENT
DTSTART;TZID=America/Toronto:20251121T183000
DTEND;TZID=America/Toronto:20251121T200000
DTSTAMP:20260423T190341
CREATED:20251017T151414Z
LAST-MODIFIED:20251017T151414Z
UID:10005813-1763749800-1763755200@lppl.ca
SUMMARY:Wicked Dance Party (DROP IN)
DESCRIPTION:Something WICKED this way comes! Get ready to dance through life\, defy gravity\, and be changed for good with snacks\, crafts\, and an after hours dance party featuring all the best tunes from the movies. Oz-themed costumes encouraged! \nFree; drop in \nPlease note:  \n\nProgram fees are non-refundable unless a program is cancelled or rescheduled by Lincoln Pelham Public Library.\nIf fees ever present a barrier to participation\, or should you require assistance or accommodations related to you or your child’s ability to attend a program\, please contact Susan by phone: 905-562-5711 or email: programmers@lppl.ca.\nChildren 10 years of age or under attending Library programs or events must have a caregiver present in the Library. Where Library programs or events are held outside of the Library building\, the caregiver must remain within visual range of children.\nYour attendance at Lincoln Pelham Public Library programs may be digitally recorded through photographs or video recordings. These images/videos may be posted on our website\, on social media outlets\, or local publications. If you do not wish your image to be published\, please notify Library staff before or immediately after the program. No individual identification will be used unless the Library has obtained express consent.\nLPPL welcomes donations so we can continue to offer free and affordable programs. You can donate at any LPPL branch or online here.
URL:https://lppl.ca/event/wicked-dance-party-drop-in/
LOCATION:Fonthill Branch\, Fonthill\, 43 Pelham Town Square\, Fonthill\, Ontario\, L0S 1E0\, Canada
CATEGORIES:FONTHILL BRANCH
ORGANIZER;CN="Lincoln Pelham Public Library":MAILTO:programmers@lppl.ca
END:VEVENT
END:VCALENDAR