BEGIN:VCALENDAR
VERSION:2.0
PRODID:-//Lincoln Pelham Public Library - ECPv6.15.20//NONSGML v1.0//EN
CALSCALE:GREGORIAN
METHOD:PUBLISH
X-WR-CALNAME:Lincoln Pelham Public Library
X-ORIGINAL-URL:https://lppl.ca
X-WR-CALDESC:Events for Lincoln Pelham Public Library
REFRESH-INTERVAL;VALUE=DURATION:PT1H
X-Robots-Tag:noindex
X-PUBLISHED-TTL:PT1H
BEGIN:VTIMEZONE
TZID:America/Toronto
BEGIN:DAYLIGHT
TZOFFSETFROM:-0500
TZOFFSETTO:-0400
TZNAME:EDT
DTSTART:20250309T070000
END:DAYLIGHT
BEGIN:STANDARD
TZOFFSETFROM:-0400
TZOFFSETTO:-0500
TZNAME:EST
DTSTART:20251102T060000
END:STANDARD
BEGIN:DAYLIGHT
TZOFFSETFROM:-0500
TZOFFSETTO:-0400
TZNAME:EDT
DTSTART:20260308T070000
END:DAYLIGHT
BEGIN:STANDARD
TZOFFSETFROM:-0400
TZOFFSETTO:-0500
TZNAME:EST
DTSTART:20261101T060000
END:STANDARD
BEGIN:DAYLIGHT
TZOFFSETFROM:-0500
TZOFFSETTO:-0400
TZNAME:EDT
DTSTART:20270314T070000
END:DAYLIGHT
BEGIN:STANDARD
TZOFFSETFROM:-0400
TZOFFSETTO:-0500
TZNAME:EST
DTSTART:20271107T060000
END:STANDARD
END:VTIMEZONE
BEGIN:VEVENT
DTSTART;TZID=America/Toronto:20260407T100000
DTEND;TZID=America/Toronto:20260407T180000
DTSTAMP:20260423T122927
CREATED:20260212T193325Z
LAST-MODIFIED:20260212T193403Z
UID:10006758-1775556000-1775584800@lppl.ca
SUMMARY:Pathstone Mental Health Walk-In Clinic
DESCRIPTION:Get free counselling for children and youth up to age 17 and their families. No health card is required. Walk in or by appointment.  \nTo book\, call 1-800-263-4944. \nFor more information\, visit Pathstone Mental Health online.
URL:https://lppl.ca/event/pathstone-mental-health-walk-in-clinic-7/2026-04-07/
LOCATION:Fleming Branch\, Beamsville\, 5020 Serena Drive\, Beamsville\, ON\, L3J 0T2\, Canada
CATEGORIES:FLEMING BRANCH
ORGANIZER;CN="Lincoln Pelham Public Library":MAILTO:programmers@lppl.ca
END:VEVENT
BEGIN:VEVENT
DTSTART;TZID=America/Toronto:20260407T113000
DTEND;TZID=America/Toronto:20260407T190000
DTSTAMP:20260423T122927
CREATED:20251218T173902Z
LAST-MODIFIED:20251218T173902Z
UID:10006203-1775561400-1775588400@lppl.ca
SUMMARY:Pathstone Mental Health Walk-In Clinic
DESCRIPTION:Get free counselling for children and youth 17 and under and their families. Walk in or by appointment. \nTo book\, call 1-800-263-4944. \nFor more information\, visit Pathstone Mental Health online. \nLocation: Meridian Community Centre\, 100 Meridian Way\, Fonthill
URL:https://lppl.ca/event/pathstone-mental-health-walk-in-clinic-6/2026-04-07/
CATEGORIES:COMMUNITY
ORGANIZER;CN="Lincoln Pelham Public Library":MAILTO:programmers@lppl.ca
END:VEVENT
BEGIN:VEVENT
DTSTART;TZID=America/Toronto:20260407T160000
DTEND;TZID=America/Toronto:20260407T170000
DTSTAMP:20260423T122927
CREATED:20260213T172827Z
LAST-MODIFIED:20260213T172827Z
UID:10006918-1775577600-1775581200@lppl.ca
SUMMARY:Literacy Lab (formerly Reading Buddies)
DESCRIPTION:Children will visit stations featuring games\, simple reading with teen volunteers\, and hands-on activities to build reading skills in a fun\, supportive setting. \nRecommended for readers in Kindergarten – Grade 2 \nFree; registration required \nPlease register for the first week only (April 7) and your child will be signed up for all six sessions (April 7\, 14\, 21\, 28\, May 5\, 12) \nPlease note:  \n\nProgram fees are non-refundable unless a program is cancelled or rescheduled by Lincoln Pelham Public Library.\nIf fees ever present a barrier to participation\, or should you require assistance or accommodations related to you or your child’s ability to attend a program\, please contact Susan by phone: 905-562-5711 or email: programmers@lppl.ca.\nChildren 10 years of age or under attending Library programs or events must have a caregiver present in the Library. Where Library programs or events are held outside of the Library building\, the caregiver must remain within visual range of children.\nYour attendance at Lincoln Pelham Public Library programs may be digitally recorded through photographs or video recordings. These images/videos may be posted on our website\, on social media outlets\, or local publications. If you do not wish your image to be published\, please notify Library staff before or immediately after the program. No individual identification will be used unless the Library has obtained express consent.\nLPPL welcomes donations so we can continue to offer free and affordable programs. You can donate at any LPPL branch or online here.
URL:https://lppl.ca/event/literacy-lab-formerly-reading-buddies/
LOCATION:Maple Acre Branch\, Fenwick\, 781 Canboro Road\, Fenwick\, Ontario\, L0S 1C0\, Canada
CATEGORIES:MAPLE ACRE BRANCH
ORGANIZER;CN="Lincoln Pelham Public Library":MAILTO:programmers@lppl.ca
END:VEVENT
BEGIN:VEVENT
DTSTART;TZID=America/Toronto:20260408T100000
DTEND;TZID=America/Toronto:20260408T113000
DTSTAMP:20260423T122927
CREATED:20251217T233902Z
LAST-MODIFIED:20260212T234327Z
UID:10006891-1775642400-1775647800@lppl.ca
SUMMARY:Preschool Social (DROP IN)
DESCRIPTION:Meet in the children’s area with your preschool child for unstructured play activities\, where little ones and caregivers can meet and socialize with others. \nFor ages 5 and under and caregivers. \nPlease note:  \n\nProgram fees are non-refundable unless a program is cancelled or rescheduled by Lincoln Pelham Public Library.\nIf fees ever present a barrier to participation\, or should you require assistance or accommodations related to you or your child’s ability to attend a program\, please contact Susan by phone: 905-562-5711 or email: programmers@lppl.ca.\nChildren 10 years of age or under attending Library programs or events must have a caregiver present in the Library. Where Library programs or events are held outside of the Library building\, the caregiver must remain within visual range of children.\nYour attendance at Lincoln Pelham Public Library programs may be digitally recorded through photographs or video recordings. These images/videos may be posted on our website\, on social media outlets\, or local publications. If you do not wish your image to be published\, please notify Library staff before or immediately after the program. No individual identification will be used unless the Library has obtained express consent.\nLPPL welcomes donations so we can continue to offer free and affordable programs. You can donate at any LPPL branch or online here.
URL:https://lppl.ca/event/preschool-social-drop-in/2026-04-08/
LOCATION:Fleming Branch\, Beamsville\, 5020 Serena Drive\, Beamsville\, ON\, L3J 0T2\, Canada
CATEGORIES:FLEMING BRANCH
ORGANIZER;CN="Lincoln Pelham Public Library":MAILTO:programmers@lppl.ca
END:VEVENT
BEGIN:VEVENT
DTSTART;TZID=America/Toronto:20260408T120000
DTEND;TZID=America/Toronto:20260408T123000
DTSTAMP:20260423T122927
CREATED:20260212T233728Z
LAST-MODIFIED:20260212T233728Z
UID:10006854-1775649600-1775651400@lppl.ca
SUMMARY:Babies and Books (DROP IN)
DESCRIPTION:A fun and social time for babies and caregivers with stories\, songs\, and shakers! \nFor babies 0 – 15 months and caregivers. \nFree; drop in \nPlease note:  \n\nProgram fees are non-refundable unless a program is cancelled or rescheduled by Lincoln Pelham Public Library.\nIf fees ever present a barrier to participation\, or should you require assistance or accommodations related to you or your child’s ability to attend a program\, please contact Susan by phone: 905-562-5711 or email: programmers@lppl.ca.\nChildren 10 years of age or under attending Library programs or events must have a caregiver present in the Library. Where Library programs or events are held outside of the Library building\, the caregiver must remain within visual range of children.\nYour attendance at Lincoln Pelham Public Library programs may be digitally recorded through photographs or video recordings. These images/videos may be posted on our website\, on social media outlets\, or local publications. If you do not wish your image to be published\, please notify Library staff before or immediately after the program. No individual identification will be used unless the Library has obtained express consent.\nLPPL welcomes donations so we can continue to offer free and affordable programs. You can donate at any LPPL branch or online here.
URL:https://lppl.ca/event/babies-and-books-drop-in-9/2026-04-08/
LOCATION:Fonthill Branch\, Fonthill\, 43 Pelham Town Square\, Fonthill\, Ontario\, L0S 1E0\, Canada
CATEGORIES:FONTHILL BRANCH
ORGANIZER;CN="Lincoln Pelham Public Library":MAILTO:programmers@lppl.ca
END:VEVENT
BEGIN:VEVENT
DTSTART;TZID=America/Toronto:20260411T103000
DTEND;TZID=America/Toronto:20260411T123000
DTSTAMP:20260423T122927
CREATED:20260213T175107Z
LAST-MODIFIED:20260220T191206Z
UID:10006934-1775903400-1775910600@lppl.ca
SUMMARY:Art Attack: Busy Birds (Drop In)
DESCRIPTION:Make cheery\, chirpy bird art using collage techniques with paper and glue. \nFree; Drop in. \nPlease note:  \n\nProgram fees are non-refundable unless a program is cancelled or rescheduled by Lincoln Pelham Public Library.\nIf fees ever present a barrier to participation\, or should you require assistance or accommodations related to you or your child’s ability to attend a program\, please contact Susan by phone: 905-562-5711 or email: programmers@lppl.ca.\nChildren 10 years of age or under attending Library programs or events must have a caregiver present in the Library. Where Library programs or events are held outside of the Library building\, the caregiver must remain within visual range of children.\nYour attendance at Lincoln Pelham Public Library programs may be digitally recorded through photographs or video recordings. These images/videos may be posted on our website\, on social media outlets\, or local publications. If you do not wish your image to be published\, please notify Library staff before or immediately after the program. No individual identification will be used unless the Library has obtained express consent.\nLPPL welcomes donations so we can continue to offer free and affordable programs. You can donate at any LPPL branch or online here.
URL:https://lppl.ca/event/art-attack-busy-birds-drop-in-2/
LOCATION:Fonthill Branch\, Fonthill\, 43 Pelham Town Square\, Fonthill\, Ontario\, L0S 1E0\, Canada
CATEGORIES:FONTHILL BRANCH
ORGANIZER;CN="Lincoln Pelham Public Library":MAILTO:programmers@lppl.ca
END:VEVENT
END:VCALENDAR