BEGIN:VCALENDAR
VERSION:2.0
PRODID:-//Lincoln Pelham Public Library - ECPv6.15.20//NONSGML v1.0//EN
CALSCALE:GREGORIAN
METHOD:PUBLISH
X-ORIGINAL-URL:https://lppl.ca
X-WR-CALDESC:Events for Lincoln Pelham Public Library
REFRESH-INTERVAL;VALUE=DURATION:PT1H
X-Robots-Tag:noindex
X-PUBLISHED-TTL:PT1H
BEGIN:VTIMEZONE
TZID:America/Toronto
BEGIN:DAYLIGHT
TZOFFSETFROM:-0500
TZOFFSETTO:-0400
TZNAME:EDT
DTSTART:20250309T070000
END:DAYLIGHT
BEGIN:STANDARD
TZOFFSETFROM:-0400
TZOFFSETTO:-0500
TZNAME:EST
DTSTART:20251102T060000
END:STANDARD
BEGIN:DAYLIGHT
TZOFFSETFROM:-0500
TZOFFSETTO:-0400
TZNAME:EDT
DTSTART:20260308T070000
END:DAYLIGHT
BEGIN:STANDARD
TZOFFSETFROM:-0400
TZOFFSETTO:-0500
TZNAME:EST
DTSTART:20261101T060000
END:STANDARD
BEGIN:DAYLIGHT
TZOFFSETFROM:-0500
TZOFFSETTO:-0400
TZNAME:EDT
DTSTART:20270314T070000
END:DAYLIGHT
BEGIN:STANDARD
TZOFFSETFROM:-0400
TZOFFSETTO:-0500
TZNAME:EST
DTSTART:20271107T060000
END:STANDARD
END:VTIMEZONE
BEGIN:VEVENT
DTSTART;TZID=America/Toronto:20260603T133000
DTEND;TZID=America/Toronto:20260603T153000
DTSTAMP:20260425T115304
CREATED:20260420T171727Z
LAST-MODIFIED:20260420T171727Z
UID:10007123-1780493400-1780500600@lppl.ca
SUMMARY:Memory Lab
DESCRIPTION:Book a free one-hour appointment to learn how to preserve\, convert\, and digitize photos and videos. Please note users must supply their own storage device. \nFree; registration required \nBook by calling the library or by clicking here: Book a free one-hour appointment
URL:https://lppl.ca/event/memory-lab-3/2026-06-03/
LOCATION:Rittenhouse Branch\, Vineland\, 4080 John Charles Blvd\, Vineland\, ON\, L0R 2C0\, Canada
CATEGORIES:RITTENHOUSE BRANCH
END:VEVENT
BEGIN:VEVENT
DTSTART;TZID=America/Toronto:20260604T100000
DTEND;TZID=America/Toronto:20260604T180000
DTSTAMP:20260425T115304
CREATED:20260420T175944Z
LAST-MODIFIED:20260420T175944Z
UID:10007174-1780567200-1780596000@lppl.ca
SUMMARY:Pathstone Mental Health Walk-In Clinic
DESCRIPTION:Get free counselling for children and youth 17 and under and their families. Walk in or by appointment. \nTo book\, call 1-800-263-4944. \nFor more information\, visit Pathstone Mental Health online. \nLocation: Meridian Community Centre\, 100 Meridian Way\, Fonthill
URL:https://lppl.ca/event/pathstone-mental-health-walk-in-clinic-8/2026-06-04/
LOCATION:ON
CATEGORIES:COMMUNITY
ORGANIZER;CN="Lincoln Pelham Public Library":MAILTO:programmers@lppl.ca
END:VEVENT
BEGIN:VEVENT
DTSTART;TZID=America/Toronto:20260608T100000
DTEND;TZID=America/Toronto:20260608T110000
DTSTAMP:20260425T115304
CREATED:20260417T201429Z
LAST-MODIFIED:20260417T201429Z
UID:10006988-1780912800-1780916400@lppl.ca
SUMMARY:Adult Story Time (DROP IN)
DESCRIPTION:Listen to stories\, poems\, and more during this fun-filled hour. \nFor teens and adults of all ages and abilities. \nFree; drop in \nPlease note:  \n\nProgram fees are non-refundable unless a program is cancelled or rescheduled by Lincoln Pelham Public Library.\nIf fees ever present a barrier to participation\, or should you require assistance or accommodations related to you or your child’s ability to attend a program\, please contact Susan by phone: 905-562-5711 or email: programmers@lppl.ca.\nChildren 10 years of age or under attending Library programs or events must have a caregiver present in the Library. Where Library programs or events are held outside of the Library building\, the caregiver must remain within visual range of children.\nYour attendance at Lincoln Pelham Public Library programs may be digitally recorded through photographs or video recordings. These images/videos may be posted on our website\, on social media outlets\, or local publications. If you do not wish your image to be published\, please notify Library staff before or immediately after the program. No individual identification will be used unless the Library has obtained express consent.\nLPPL welcomes donations so we can continue to offer free and affordable programs. You can donate at any LPPL branch or online here.
URL:https://lppl.ca/event/adult-story-time-drop-in-6/2026-06-08/
LOCATION:Fleming Branch\, Beamsville\, 5020 Serena Drive\, Beamsville\, ON\, L3J 0T2\, Canada
CATEGORIES:FLEMING BRANCH
ORGANIZER;CN="Lincoln Pelham Public Library":MAILTO:programmers@lppl.ca
END:VEVENT
BEGIN:VEVENT
DTSTART;TZID=America/Toronto:20260609T100000
DTEND;TZID=America/Toronto:20260609T180000
DTSTAMP:20260425T115304
CREATED:20260420T174137Z
LAST-MODIFIED:20260420T174507Z
UID:10007141-1780999200-1781028000@lppl.ca
SUMMARY:Pathstone Mental Health Walk-In Clinic
DESCRIPTION:Get free counselling for children and youth up to age 17 and their families. No health card is required. Walk in or by appointment.  \nTo book\, call 1-800-263-4944. \nFor more information\, visit Pathstone Mental Health online.
URL:https://lppl.ca/event/pathstone-mental-health-walk-in-clinic-3/2026-06-09/
LOCATION:Fleming Branch\, Beamsville\, 5020 Serena Drive\, Beamsville\, ON\, L3J 0T2\, Canada
CATEGORIES:FLEMING BRANCH
ORGANIZER;CN="Lincoln Pelham Public Library":MAILTO:programmers@lppl.ca
END:VEVENT
BEGIN:VEVENT
DTSTART;TZID=America/Toronto:20260610T080000
DTEND;TZID=America/Toronto:20260610T160000
DTSTAMP:20260425T115304
CREATED:20260420T175446Z
LAST-MODIFIED:20260420T175446Z
UID:10007152-1781078400-1781107200@lppl.ca
SUMMARY:Pathstone Mental Health Walk-In Clinic
DESCRIPTION:Get free counselling for children and youth 17 and under and their families. Walk in or by appointment. \nTo book\, call 1-800-263-4944. \nFor more information\, visit Pathstone Mental Health online. \nLocation: Meridian Community Centre\, 100 Meridian Way\, Fonthill
URL:https://lppl.ca/event/pathstone-mental-health-walk-in-clinic-4/2026-06-10/
LOCATION:ON
CATEGORIES:COMMUNITY
ORGANIZER;CN="Lincoln Pelham Public Library":MAILTO:programmers@lppl.ca
END:VEVENT
BEGIN:VEVENT
DTSTART;TZID=America/Toronto:20260610T133000
DTEND;TZID=America/Toronto:20260610T153000
DTSTAMP:20260425T115304
CREATED:20260420T171727Z
LAST-MODIFIED:20260420T171727Z
UID:10007124-1781098200-1781105400@lppl.ca
SUMMARY:Memory Lab
DESCRIPTION:Book a free one-hour appointment to learn how to preserve\, convert\, and digitize photos and videos. Please note users must supply their own storage device. \nFree; registration required \nBook by calling the library or by clicking here: Book a free one-hour appointment
URL:https://lppl.ca/event/memory-lab-3/2026-06-10/
LOCATION:Rittenhouse Branch\, Vineland\, 4080 John Charles Blvd\, Vineland\, ON\, L0R 2C0\, Canada
CATEGORIES:RITTENHOUSE BRANCH
END:VEVENT
BEGIN:VEVENT
DTSTART;TZID=America/Toronto:20260610T160000
DTEND;TZID=America/Toronto:20260610T173000
DTSTAMP:20260425T115304
CREATED:20260212T184839Z
LAST-MODIFIED:20260417T201458Z
UID:10006990-1781107200-1781112600@lppl.ca
SUMMARY:Teen Hangout Night (DROP IN)
DESCRIPTION:Come hang out and study\, read\, work on a group puzzle\, led by teen volunteers. Snacks provided. \nFree; drop in for ages 12-17 \nPlease note:  \n\nProgram fees are non-refundable unless a program is cancelled or rescheduled by Lincoln Pelham Public Library.\nIf fees ever present a barrier to participation\, or should you require assistance or accommodations related to you or your child’s ability to attend a program\, please contact Susan by phone: 905-562-5711 or email: programmers@lppl.ca.\nChildren 10 years of age or under attending Library programs or events must have a caregiver present in the Library. Where Library programs or events are held outside of the Library building\, the caregiver must remain within visual range of children.\nYour attendance at Lincoln Pelham Public Library programs may be digitally recorded through photographs or video recordings. These images/videos may be posted on our website\, on social media outlets\, or local publications. If you do not wish your image to be published\, please notify Library staff before or immediately after the program. No individual identification will be used unless the Library has obtained express consent.\nLPPL welcomes donations so we can continue to offer free and affordable programs. You can donate at any LPPL branch or online here.
URL:https://lppl.ca/event/teen-hangout-night-drop-in/2026-06-10/
LOCATION:Fleming Branch\, Beamsville\, 5020 Serena Drive\, Beamsville\, ON\, L3J 0T2\, Canada
CATEGORIES:FLEMING BRANCH
ORGANIZER;CN="Lincoln Pelham Public Library":MAILTO:programmers@lppl.ca
END:VEVENT
BEGIN:VEVENT
DTSTART;TZID=America/Toronto:20260611T100000
DTEND;TZID=America/Toronto:20260611T180000
DTSTAMP:20260425T115304
CREATED:20260420T175944Z
LAST-MODIFIED:20260420T175944Z
UID:10007175-1781172000-1781200800@lppl.ca
SUMMARY:Pathstone Mental Health Walk-In Clinic
DESCRIPTION:Get free counselling for children and youth 17 and under and their families. Walk in or by appointment. \nTo book\, call 1-800-263-4944. \nFor more information\, visit Pathstone Mental Health online. \nLocation: Meridian Community Centre\, 100 Meridian Way\, Fonthill
URL:https://lppl.ca/event/pathstone-mental-health-walk-in-clinic-8/2026-06-11/
LOCATION:ON
CATEGORIES:COMMUNITY
ORGANIZER;CN="Lincoln Pelham Public Library":MAILTO:programmers@lppl.ca
END:VEVENT
BEGIN:VEVENT
DTSTART;TZID=America/Toronto:20260616T100000
DTEND;TZID=America/Toronto:20260616T180000
DTSTAMP:20260425T115304
CREATED:20260420T174137Z
LAST-MODIFIED:20260420T174507Z
UID:10007142-1781604000-1781632800@lppl.ca
SUMMARY:Pathstone Mental Health Walk-In Clinic
DESCRIPTION:Get free counselling for children and youth up to age 17 and their families. No health card is required. Walk in or by appointment.  \nTo book\, call 1-800-263-4944. \nFor more information\, visit Pathstone Mental Health online.
URL:https://lppl.ca/event/pathstone-mental-health-walk-in-clinic-3/2026-06-16/
LOCATION:Fleming Branch\, Beamsville\, 5020 Serena Drive\, Beamsville\, ON\, L3J 0T2\, Canada
CATEGORIES:FLEMING BRANCH
ORGANIZER;CN="Lincoln Pelham Public Library":MAILTO:programmers@lppl.ca
END:VEVENT
BEGIN:VEVENT
DTSTART;TZID=America/Toronto:20260617T080000
DTEND;TZID=America/Toronto:20260617T160000
DTSTAMP:20260425T115304
CREATED:20260420T175446Z
LAST-MODIFIED:20260420T175446Z
UID:10007153-1781683200-1781712000@lppl.ca
SUMMARY:Pathstone Mental Health Walk-In Clinic
DESCRIPTION:Get free counselling for children and youth 17 and under and their families. Walk in or by appointment. \nTo book\, call 1-800-263-4944. \nFor more information\, visit Pathstone Mental Health online. \nLocation: Meridian Community Centre\, 100 Meridian Way\, Fonthill
URL:https://lppl.ca/event/pathstone-mental-health-walk-in-clinic-4/2026-06-17/
LOCATION:ON
CATEGORIES:COMMUNITY
ORGANIZER;CN="Lincoln Pelham Public Library":MAILTO:programmers@lppl.ca
END:VEVENT
BEGIN:VEVENT
DTSTART;TZID=America/Toronto:20260617T133000
DTEND;TZID=America/Toronto:20260617T153000
DTSTAMP:20260425T115304
CREATED:20260420T171727Z
LAST-MODIFIED:20260420T171727Z
UID:10007125-1781703000-1781710200@lppl.ca
SUMMARY:Memory Lab
DESCRIPTION:Book a free one-hour appointment to learn how to preserve\, convert\, and digitize photos and videos. Please note users must supply their own storage device. \nFree; registration required \nBook by calling the library or by clicking here: Book a free one-hour appointment
URL:https://lppl.ca/event/memory-lab-3/2026-06-17/
LOCATION:Rittenhouse Branch\, Vineland\, 4080 John Charles Blvd\, Vineland\, ON\, L0R 2C0\, Canada
CATEGORIES:RITTENHOUSE BRANCH
END:VEVENT
BEGIN:VEVENT
DTSTART;TZID=America/Toronto:20260618T100000
DTEND;TZID=America/Toronto:20260618T180000
DTSTAMP:20260425T115304
CREATED:20260420T175944Z
LAST-MODIFIED:20260420T175944Z
UID:10007176-1781776800-1781805600@lppl.ca
SUMMARY:Pathstone Mental Health Walk-In Clinic
DESCRIPTION:Get free counselling for children and youth 17 and under and their families. Walk in or by appointment. \nTo book\, call 1-800-263-4944. \nFor more information\, visit Pathstone Mental Health online. \nLocation: Meridian Community Centre\, 100 Meridian Way\, Fonthill
URL:https://lppl.ca/event/pathstone-mental-health-walk-in-clinic-8/2026-06-18/
LOCATION:ON
CATEGORIES:COMMUNITY
ORGANIZER;CN="Lincoln Pelham Public Library":MAILTO:programmers@lppl.ca
END:VEVENT
BEGIN:VEVENT
DTSTART;TZID=America/Toronto:20260622T130000
DTEND;TZID=America/Toronto:20260622T140000
DTSTAMP:20260425T115304
CREATED:20260417T201013Z
LAST-MODIFIED:20260417T201013Z
UID:10006981-1782133200-1782136800@lppl.ca
SUMMARY:Create and Chat (DROP IN)
DESCRIPTION:Make a seasonal craft\, plus enjoy a social atmosphere. \nFor teens and adults of all ages and abilities. \nFree; drop in \nPlease note:  \n\nProgram fees are non-refundable unless a program is cancelled or rescheduled by Lincoln Pelham Public Library.\nIf fees ever present a barrier to participation\, or should you require assistance or accommodations related to you or your child’s ability to attend a program\, please contact Susan by phone: 905-562-5711 or email: programmers@lppl.ca.\nChildren 10 years of age or under attending Library programs or events must have a caregiver present in the Library. Where Library programs or events are held outside of the Library building\, the caregiver must remain within visual range of children.\nYour attendance at Lincoln Pelham Public Library programs may be digitally recorded through photographs or video recordings. These images/videos may be posted on our website\, on social media outlets\, or local publications. If you do not wish your image to be published\, please notify Library staff before or immediately after the program. No individual identification will be used unless the Library has obtained express consent.\nLPPL welcomes donations so we can continue to offer free and affordable programs. You can donate at any LPPL branch or online here.
URL:https://lppl.ca/event/create-and-chat-drop-in-3/2026-06-22/
LOCATION:Fleming Branch\, Beamsville\, 5020 Serena Drive\, Beamsville\, ON\, L3J 0T2\, Canada
CATEGORIES:FLEMING BRANCH
ORGANIZER;CN="Lincoln Pelham Public Library":MAILTO:programmers@lppl.ca
END:VEVENT
BEGIN:VEVENT
DTSTART;TZID=America/Toronto:20260623T100000
DTEND;TZID=America/Toronto:20260623T180000
DTSTAMP:20260425T115304
CREATED:20260420T174137Z
LAST-MODIFIED:20260420T174507Z
UID:10007143-1782208800-1782237600@lppl.ca
SUMMARY:Pathstone Mental Health Walk-In Clinic
DESCRIPTION:Get free counselling for children and youth up to age 17 and their families. No health card is required. Walk in or by appointment.  \nTo book\, call 1-800-263-4944. \nFor more information\, visit Pathstone Mental Health online.
URL:https://lppl.ca/event/pathstone-mental-health-walk-in-clinic-3/2026-06-23/
LOCATION:Fleming Branch\, Beamsville\, 5020 Serena Drive\, Beamsville\, ON\, L3J 0T2\, Canada
CATEGORIES:FLEMING BRANCH
ORGANIZER;CN="Lincoln Pelham Public Library":MAILTO:programmers@lppl.ca
END:VEVENT
BEGIN:VEVENT
DTSTART;TZID=America/Toronto:20260624T080000
DTEND;TZID=America/Toronto:20260624T160000
DTSTAMP:20260425T115304
CREATED:20260420T175446Z
LAST-MODIFIED:20260420T175446Z
UID:10007154-1782288000-1782316800@lppl.ca
SUMMARY:Pathstone Mental Health Walk-In Clinic
DESCRIPTION:Get free counselling for children and youth 17 and under and their families. Walk in or by appointment. \nTo book\, call 1-800-263-4944. \nFor more information\, visit Pathstone Mental Health online. \nLocation: Meridian Community Centre\, 100 Meridian Way\, Fonthill
URL:https://lppl.ca/event/pathstone-mental-health-walk-in-clinic-4/2026-06-24/
LOCATION:ON
CATEGORIES:COMMUNITY
ORGANIZER;CN="Lincoln Pelham Public Library":MAILTO:programmers@lppl.ca
END:VEVENT
BEGIN:VEVENT
DTSTART;TZID=America/Toronto:20260624T133000
DTEND;TZID=America/Toronto:20260624T153000
DTSTAMP:20260425T115304
CREATED:20260420T171727Z
LAST-MODIFIED:20260420T171727Z
UID:10007126-1782307800-1782315000@lppl.ca
SUMMARY:Memory Lab
DESCRIPTION:Book a free one-hour appointment to learn how to preserve\, convert\, and digitize photos and videos. Please note users must supply their own storage device. \nFree; registration required \nBook by calling the library or by clicking here: Book a free one-hour appointment
URL:https://lppl.ca/event/memory-lab-3/2026-06-24/
LOCATION:Rittenhouse Branch\, Vineland\, 4080 John Charles Blvd\, Vineland\, ON\, L0R 2C0\, Canada
CATEGORIES:RITTENHOUSE BRANCH
END:VEVENT
BEGIN:VEVENT
DTSTART;TZID=America/Toronto:20260625T100000
DTEND;TZID=America/Toronto:20260625T180000
DTSTAMP:20260425T115304
CREATED:20260420T175944Z
LAST-MODIFIED:20260420T175944Z
UID:10007177-1782381600-1782410400@lppl.ca
SUMMARY:Pathstone Mental Health Walk-In Clinic
DESCRIPTION:Get free counselling for children and youth 17 and under and their families. Walk in or by appointment. \nTo book\, call 1-800-263-4944. \nFor more information\, visit Pathstone Mental Health online. \nLocation: Meridian Community Centre\, 100 Meridian Way\, Fonthill
URL:https://lppl.ca/event/pathstone-mental-health-walk-in-clinic-8/2026-06-25/
LOCATION:ON
CATEGORIES:COMMUNITY
ORGANIZER;CN="Lincoln Pelham Public Library":MAILTO:programmers@lppl.ca
END:VEVENT
BEGIN:VEVENT
DTSTART;TZID=America/Toronto:20260630T100000
DTEND;TZID=America/Toronto:20260630T180000
DTSTAMP:20260425T115304
CREATED:20260420T174137Z
LAST-MODIFIED:20260420T174507Z
UID:10007144-1782813600-1782842400@lppl.ca
SUMMARY:Pathstone Mental Health Walk-In Clinic
DESCRIPTION:Get free counselling for children and youth up to age 17 and their families. No health card is required. Walk in or by appointment.  \nTo book\, call 1-800-263-4944. \nFor more information\, visit Pathstone Mental Health online.
URL:https://lppl.ca/event/pathstone-mental-health-walk-in-clinic-3/2026-06-30/
LOCATION:Fleming Branch\, Beamsville\, 5020 Serena Drive\, Beamsville\, ON\, L3J 0T2\, Canada
CATEGORIES:FLEMING BRANCH
ORGANIZER;CN="Lincoln Pelham Public Library":MAILTO:programmers@lppl.ca
END:VEVENT
END:VCALENDAR