BEGIN:VCALENDAR
VERSION:2.0
PRODID:-//Lincoln Pelham Public Library - ECPv6.15.20//NONSGML v1.0//EN
CALSCALE:GREGORIAN
METHOD:PUBLISH
X-WR-CALNAME:Lincoln Pelham Public Library
X-ORIGINAL-URL:https://lppl.ca
X-WR-CALDESC:Events for Lincoln Pelham Public Library
REFRESH-INTERVAL;VALUE=DURATION:PT1H
X-Robots-Tag:noindex
X-PUBLISHED-TTL:PT1H
BEGIN:VTIMEZONE
TZID:America/Toronto
BEGIN:DAYLIGHT
TZOFFSETFROM:-0500
TZOFFSETTO:-0400
TZNAME:EDT
DTSTART:20240310T070000
END:DAYLIGHT
BEGIN:STANDARD
TZOFFSETFROM:-0400
TZOFFSETTO:-0500
TZNAME:EST
DTSTART:20241103T060000
END:STANDARD
BEGIN:DAYLIGHT
TZOFFSETFROM:-0500
TZOFFSETTO:-0400
TZNAME:EDT
DTSTART:20250309T070000
END:DAYLIGHT
BEGIN:STANDARD
TZOFFSETFROM:-0400
TZOFFSETTO:-0500
TZNAME:EST
DTSTART:20251102T060000
END:STANDARD
BEGIN:DAYLIGHT
TZOFFSETFROM:-0500
TZOFFSETTO:-0400
TZNAME:EDT
DTSTART:20260308T070000
END:DAYLIGHT
BEGIN:STANDARD
TZOFFSETFROM:-0400
TZOFFSETTO:-0500
TZNAME:EST
DTSTART:20261101T060000
END:STANDARD
END:VTIMEZONE
BEGIN:VEVENT
DTSTART;TZID=America/Toronto:20250811T130000
DTEND;TZID=America/Toronto:20250811T140000
DTSTAMP:20260425T215038
CREATED:20250617T172357Z
LAST-MODIFIED:20250617T172505Z
UID:10005146-1754917200-1754920800@lppl.ca
SUMMARY:Adult Story Time (DROP IN)
DESCRIPTION:Celebrate summer with stories and activities! \nFor teens and adults of all ages and abilities. \nFree; drop in \nPlease note:  \n\nProgram fees are non-refundable unless a program is cancelled or rescheduled by Lincoln Pelham Public Library.\nIf fees ever present a barrier to participation\, or should you require assistance or accommodations related to you or your child’s ability to attend a program\, please contact Susan by phone: 905-562-5711 or email: programmers@lppl.ca.\nChildren 10 years of age or under attending Library programs or events must have a caregiver present in the Library. Where Library programs or events are held outside of the Library building\, the caregiver must remain within visual range of children.\nYour attendance at Lincoln Pelham Public Library programs may be digitally recorded through photographs or video recordings. These images/videos may be posted on our website\, on social media outlets\, or local publications. If you do not wish your image to be published\, please notify Library staff before or immediately after the program. No individual identification will be used unless the Library has obtained express consent.\nLPPL welcomes donations so we can continue to offer free and affordable programs. You can donate at any LPPL branch or online here.
URL:https://lppl.ca/event/adult-story-time-drop-in/2025-08-11/
LOCATION:Fleming Branch\, Beamsville\, 5020 Serena Drive\, Beamsville\, ON\, L3J 0T2\, Canada
CATEGORIES:FLEMING BRANCH
ORGANIZER;CN="Lincoln Pelham Public Library":MAILTO:programmers@lppl.ca
END:VEVENT
BEGIN:VEVENT
DTSTART;TZID=America/Toronto:20250811T163000
DTEND;TZID=America/Toronto:20250811T173000
DTSTAMP:20260425T215038
CREATED:20250617T154940Z
LAST-MODIFIED:20250617T154940Z
UID:10004934-1754929800-1754933400@lppl.ca
SUMMARY:Teen Book Talk (DROP IN)
DESCRIPTION:Come enjoy a snack and meet with other teens to hang out and talk about the books you’re reading. \nFree; drop in. For ages 12 – 17. \nPlease note: \n\nProgram fees are non-refundable unless a program is cancelled or rescheduled by Lincoln Pelham Public Library.\nIf fees ever present a barrier to participation\, or should you require assistance or accommodations related to you or your child’s ability to attend a program\, please contact Susan by phone: 905-562-5711 or email: programmers@lppl.ca.\nChildren 10 years of age or under attending Library programs or events must have a caregiver present in the Library. Where Library programs or events are held outside of the Library building\, the caregiver must remain within visual range of children.\nYour attendance at Lincoln Pelham Public Library programs may be digitally recorded through photographs or video recordings. These images/videos may be posted on our website\, on social media outlets\, or local publications. If you do not wish your image to be published\, please notify Library staff before or immediately after the program. No individual identification will be used unless the Library has obtained express consent.\nLPPL welcomes donations so we can continue to offer free and affordable programs. You can donate at any LPPL branch or online here.
URL:https://lppl.ca/event/teen-book-talk-drop-in/2025-08-11/
LOCATION:Fonthill Branch\, Fonthill\, 43 Pelham Town Square\, Fonthill\, Ontario\, L0S 1E0\, Canada
CATEGORIES:FONTHILL BRANCH
ORGANIZER;CN="Lincoln Pelham Public Library":MAILTO:programmers@lppl.ca
END:VEVENT
BEGIN:VEVENT
DTSTART;TZID=America/Toronto:20250812T113000
DTEND;TZID=America/Toronto:20250812T190000
DTSTAMP:20260425T215038
CREATED:20250617T165616Z
LAST-MODIFIED:20251017T152851Z
UID:10005017-1754998200-1755025200@lppl.ca
SUMMARY:Pathstone Mental Health Walk-In Clinic
DESCRIPTION:Get free counselling for children and youth 17 and under and their families. Walk in or by appointment. \nTo book\, call 1-800-263-4944. \nFor more information\, visit Pathstone Mental Health online. \nLocation: Meridian Community Centre\, 100 Meridian Way\, Fonthill
URL:https://lppl.ca/event/pathstone-mental-health-walk-in-clinic/2025-08-12/
CATEGORIES:COMMUNITY
ORGANIZER;CN="Lincoln Pelham Public Library":MAILTO:programmers@lppl.ca
END:VEVENT
BEGIN:VEVENT
DTSTART;TZID=America/Toronto:20250812T160000
DTEND;TZID=America/Toronto:20250812T180000
DTSTAMP:20260425T215038
CREATED:20250617T163649Z
LAST-MODIFIED:20250617T163649Z
UID:10004953-1755014400-1755021600@lppl.ca
SUMMARY:Teen Makerspace (DROP IN)
DESCRIPTION:Drop in to learn how to use equipment in the makerspace\, for teens only. \nFor ages 12-17. \nFree ; drop in
URL:https://lppl.ca/event/teen-makerspace-drop-in-2/
LOCATION:Fleming Branch\, Beamsville\, 5020 Serena Drive\, Beamsville\, ON\, L3J 0T2\, Canada
CATEGORIES:FLEMING BRANCH
ORGANIZER;CN="Lincoln Pelham Public Library":MAILTO:programmers@lppl.ca
END:VEVENT
BEGIN:VEVENT
DTSTART;TZID=America/Toronto:20250814T113000
DTEND;TZID=America/Toronto:20250814T190000
DTSTAMP:20260425T215038
CREATED:20250617T170210Z
LAST-MODIFIED:20251017T153141Z
UID:10005070-1755171000-1755198000@lppl.ca
SUMMARY:Pathstone Mental Health Walk-In Clinic
DESCRIPTION:Get free counselling for children and youth up to age 17 and their families. No health card is required. Walk in or by appointment (please note the last appointment time available is at 5:30 pm).  \nTo book\, call 1-800-263-4944. \nFor more information\, visit Pathstone Mental Health online.
URL:https://lppl.ca/event/pathstone-mental-health-walk-in-clinic-2/2025-08-14/
LOCATION:Fleming Branch\, Beamsville\, 5020 Serena Drive\, Beamsville\, ON\, L3J 0T2\, Canada
CATEGORIES:FLEMING BRANCH
ORGANIZER;CN="Lincoln Pelham Public Library":MAILTO:programmers@lppl.ca
END:VEVENT
END:VCALENDAR